BEGIN:VCALENDAR
VERSION:2.0
PRODID:-//Events | FID-Recht//NONSGML Events//EN
CALSCALE:GREGORIAN
X-ORIGINAL-URL:https://events.intrecht.de/termine/
X-WR-CALDESC:Events | FID-Recht - Events
BEGIN:VEVENT
UID:20211206T1827Z-1638815225.7774-EO-5407-1@172.16.200.141
STATUS:CONFIRMED
DTSTAMP:20260423T004643Z
CREATED:20211130T191321Z
LAST-MODIFIED:20211130T191321Z
DTSTART;VALUE=DATE:20211209
DTEND;VALUE=DATE:20211210
SUMMARY: Power to the People – Constitutionalism in the Age of Populism (wi
 th Mark Tushnet and Bojan Bugaric) (Online-Buchdiskussion)
DESCRIPTION: 9.12.2021\, Online ICON-S CEE roundtable: Mark Tushnet and Boj
 an Bugaric\, Power to the People Tickets\, Thu 9 Dec 2021 at 15:00 | Eventb
 rite  
X-ALT-DESC;FMTTYPE=text/html: <p>9.12.2021\, Online</p><p><a href="https://
 www.eventbrite.co.uk/e/icon-s-cee-roundtable-mark-tushnet-and-bojan-bugaric
 -power-to-the-people-tickets-213578668547">ICON-S CEE roundtable: Mark Tush
 net and Bojan Bugaric\, Power to the People Tickets\, Thu 9 Dec 2021 at 15:
 00 | Eventbrite</a></p><p> </p><p>[av_button label='iCal-Export' link='./fe
 ed/eo-events' link_target='' size='small' position='center' label_display='
 ' title_attr='' icon_select='yes' icon='ue85b' font='entypo-fontello' color
 ='custom' custom_bg='#b5123e' custom_font='#ffffff' av_uid='' id='' custom_
 class='' admin_preview_bg='']</p>
CATEGORIES:Öffentliches Recht
LOCATION:Online
GEO:0.000000;0.000000
ORGANIZER;CN="ViFa-Recht":MAILTO:vifa-recht@sbb.spk-berlin.de
URL;VALUE=URI:https://events.intrecht.de/termine/termin/power-to-the-people
 -constitutionalism-in-the-age-of-populism-with-mark-tushnet-and-bojan-bugar
 ic-online-buchdiskussion/
END:VEVENT
BEGIN:VTIMEZONE
TZID:Europe/Berlin
BEGIN:STANDARD
TZOFFSETFROM:+0200
TZOFFSETTO:+0100
DTSTART:20211031T010000
TZNAME:CET
END:STANDARD
END:VTIMEZONE
END:VCALENDAR
