BEGIN:VCALENDAR
VERSION:2.0
PRODID:-//Events | FID-Recht//NONSGML Events//EN
CALSCALE:GREGORIAN
X-ORIGINAL-URL:https://events.intrecht.de/termine/
X-WR-CALDESC:Events | FID-Recht - Events
BEGIN:VEVENT
UID:20200602T0945Z-1591091115.9737-EO-599-1@172.16.200.141
STATUS:CONFIRMED
DTSTAMP:20260423T091006Z
CREATED:20260413T103302Z
LAST-MODIFIED:20260413T103302Z
DTSTART;VALUE=DATE:20260925
DTEND;VALUE=DATE:20260928
SUMMARY: Postmigrantische Jurist*innenkonferenz 2026
DESCRIPTION: 25.-27.9.2026 / Berlin (Einreichungsfrist: 3.5.2026) https://w
 ww.pmjb.de/blog/pomiko26-cfc
X-ALT-DESC;FMTTYPE=text/html: <p>25.-27.9.2026 / Berlin <strong>(Einreichun
 gsfrist: 3.5.2026)</strong></p><p><a href="https://www.pmjb.de/blog/pomiko2
 6-cfc">https://www.pmjb.de/blog/pomiko26-cfc</a></p><p>[av_button label='iC
 al-Export' link='./feed/eo-events' link_target='' size='small' position='ce
 nter' label_display='' title_attr='' icon_select='yes' icon='ue85b' font='e
 ntypo-fontello' color='custom' custom_bg='#b5123e' custom_font='#ffffff' av
 _uid='' id='' custom_class='' admin_preview_bg='']</p>
CATEGORIES:Recht interdisziplinär
LOCATION:Inland
GEO:0.000000;0.000000
ORGANIZER;CN="ViFa-Recht":MAILTO:vifa-recht@sbb.spk-berlin.de
URL;VALUE=URI:https://events.intrecht.de/termine/termin/postmigrantische-ju
 ristinnenkonferenz-2026/
END:VEVENT
BEGIN:VTIMEZONE
TZID:Europe/Berlin
BEGIN:DAYLIGHT
TZOFFSETFROM:+0100
TZOFFSETTO:+0200
DTSTART:20260329T010000
TZNAME:CEST
END:DAYLIGHT
END:VTIMEZONE
END:VCALENDAR
