BEGIN:VCALENDAR
VERSION:2.0
PRODID:-//Events | FID-Recht//NONSGML Events//EN
CALSCALE:GREGORIAN
X-ORIGINAL-URL:https://events.intrecht.de/termine/
X-WR-CALDESC:Events | FID-Recht - Events
BEGIN:VEVENT
UID:20211104T1246Z-1636030019.1279-EO-4957-1@172.16.200.141
STATUS:CONFIRMED
DTSTAMP:20260421T171000Z
CREATED:20211102T152345Z
LAST-MODIFIED:20211102T152345Z
DTSTART;VALUE=DATE:20211125
DTEND;VALUE=DATE:20211126
SUMMARY: Postcolonial Legal Theory through Swiss Triangular Commercial Lega
 l History (with Filippo Contarini) ((Online-)Vortrag)
DESCRIPTION: 25.11.2021\, Zürich/Online https://www.ius.uzh.ch/de/research/
 units/zrf/zaa/HS-2021.html  
X-ALT-DESC;FMTTYPE=text/html: <p>25.11.2021\, Zürich/Online</p><p><a href="
 https://www.ius.uzh.ch/de/research/units/zrf/zaa/HS-2021.html">https://www.
 ius.uzh.ch/de/research/units/zrf/zaa/HS-2021.html</a></p><p> </p><p>[av_but
 ton label='iCal-Export' link='./feed/eo-events' link_target='' size='small'
  position='center' label_display='' title_attr='' icon_select='yes' icon='u
 e85b' font='entypo-fontello' color='custom' custom_bg='#b5123e' custom_font
 ='#ffffff' av_uid='' id='' custom_class='' admin_preview_bg='']</p>
CATEGORIES:Recht interdisziplinär
LOCATION:Online
GEO:0.000000;0.000000
ORGANIZER;CN="ViFa-Recht":MAILTO:vifa-recht@sbb.spk-berlin.de
URL;VALUE=URI:https://events.intrecht.de/termine/termin/postcolonial-legal-
 theory-through-swiss-triangular-commercial-legal-history-with-filippo-conta
 rini-online-vortrag/
END:VEVENT
BEGIN:VTIMEZONE
TZID:Europe/Berlin
BEGIN:STANDARD
TZOFFSETFROM:+0200
TZOFFSETTO:+0100
DTSTART:20211031T010000
TZNAME:CET
END:STANDARD
END:VTIMEZONE
END:VCALENDAR
