BEGIN:VCALENDAR
VERSION:2.0
PRODID:-//Events | FID-Recht//NONSGML Events//EN
CALSCALE:GREGORIAN
X-ORIGINAL-URL:https://events.intrecht.de/termine/
X-WR-CALDESC:Events | FID-Recht - Events
BEGIN:VEVENT
UID:20200603T1418Z-1591193923.3362-EO-587-1@172.16.200.141
STATUS:CONFIRMED
DTSTAMP:20260423T003433Z
CREATED:20250507T120028Z
LAST-MODIFIED:20250507T120028Z
DTSTART;VALUE=DATE:20250918
DTEND;VALUE=DATE:20250920
SUMMARY: Post the UN Summit of the Future: Towards a (Re-)Consideration of 
 the Right to Self-Determination\, Sovereign Equality and Sustainable Develo
 pment in a Divided and Transforming Global Legal Order (Conference)
DESCRIPTION: 18.-19.9.2025 / Windhoek (Einreichungsfrist: 30.5.2025) https:
 //www.leuphana.de/en/institutes/lls/joachim-herz-doctoral-school-of-law/new
 s/events/single-view/2025/05/30/call-for-papers-post-the-un-summit-of-the-f
 uture-18-19-september-2025-in-windhoek-namibia.html
X-ALT-DESC;FMTTYPE=text/html: <p>18.-19.9.2025 / Windhoek <strong>(Einreich
 ungsfrist: 30.5.2025)</strong></p><p><a href="https://www.leuphana.de/en/in
 stitutes/lls/joachim-herz-doctoral-school-of-law/news/events/single-view/20
 25/05/30/call-for-papers-post-the-un-summit-of-the-future-18-19-september-2
 025-in-windhoek-namibia.html">https://www.leuphana.de/en/institutes/lls/joa
 chim-herz-doctoral-school-of-law/news/events/single-view/2025/05/30/call-fo
 r-papers-post-the-un-summit-of-the-future-18-19-september-2025-in-windhoek-
 namibia.html</a></p><p>[av_button label='iCal-Export' link='./feed/eo-event
 s' link_target='' size='small' position='center' label_display='' title_att
 r='' icon_select='yes' icon='ue85b' font='entypo-fontello' color='custom' c
 ustom_bg='#b5123e' custom_font='#ffffff' av_uid='' id='' custom_class='' ad
 min_preview_bg='']</p>
CATEGORIES:Europäisches / Internationales Recht
LOCATION:Ausland
GEO:0.000000;0.000000
ORGANIZER;CN="ViFa-Recht":MAILTO:vifa-recht@sbb.spk-berlin.de
URL;VALUE=URI:https://events.intrecht.de/termine/termin/post-the-un-summit-
 of-the-future-towards-a-re-consideration-of-the-right-to-self-determination
 -sovereign-equality-and-sustainable-development-in-a-divided-and-transformi
 ng-global-legal-order-conf/
END:VEVENT
BEGIN:VTIMEZONE
TZID:Europe/Berlin
BEGIN:DAYLIGHT
TZOFFSETFROM:+0100
TZOFFSETTO:+0200
DTSTART:20250330T010000
TZNAME:CEST
END:DAYLIGHT
END:VTIMEZONE
END:VCALENDAR
