BEGIN:VCALENDAR
VERSION:2.0
PRODID:-//Events | FID-Recht//NONSGML Events//EN
CALSCALE:GREGORIAN
X-ORIGINAL-URL:https://events.intrecht.de/termine/
X-WR-CALDESC:Events | FID-Recht - Events
BEGIN:VEVENT
UID:20200603T1418Z-1591193923.3362-EO-587-1@172.16.200.141
STATUS:CONFIRMED
DTSTAMP:20260423T070939Z
CREATED:20250429T152948Z
LAST-MODIFIED:20250429T152948Z
DTSTART;VALUE=DATE:20251128
DTEND;VALUE=DATE:20251130
SUMMARY: Post Hegemonic International Law? (Conference / Arbeitskreis junge
 r Völkerrechtswissenschaftler*innen & Deutsche Gesellschaft für Internation
 ales Recht)
DESCRIPTION: 28.-29.11.2025 / Zürich (Einreichungsfrist: 1.7.2025) https://
 www.juwiss.de/wp-content/uploads/2025/04/ajv_poster_inc_cfp_2025.pdf
X-ALT-DESC;FMTTYPE=text/html: <p>28.-29.11.2025 / Zürich <strong>(Einreichu
 ngsfrist: 1.7.2025)</strong></p><p><a href="https://www.juwiss.de/wp-conten
 t/uploads/2025/04/ajv_poster_inc_cfp_2025.pdf">https://www.juwiss.de/wp-con
 tent/uploads/2025/04/ajv_poster_inc_cfp_2025.pdf</a></p><p>[av_button label
 ='iCal-Export' link='./feed/eo-events' link_target='' size='small' position
 ='center' label_display='' title_attr='' icon_select='yes' icon='ue85b' fon
 t='entypo-fontello' color='custom' custom_bg='#b5123e' custom_font='#ffffff
 ' av_uid='' id='' custom_class='' admin_preview_bg='']</p>
CATEGORIES:Europäisches / Internationales Recht
LOCATION:Ausland
GEO:0.000000;0.000000
ORGANIZER;CN="ViFa-Recht":MAILTO:vifa-recht@sbb.spk-berlin.de
URL;VALUE=URI:https://events.intrecht.de/termine/termin/post-hegemonic-inte
 rnational-law-conference-arbeitskreis-junger-voelkerrechtswissenschaftlerin
 nen-deutsche-gesellschaft-fuer-internationales-recht/
END:VEVENT
BEGIN:VTIMEZONE
TZID:Europe/Berlin
BEGIN:STANDARD
TZOFFSETFROM:+0200
TZOFFSETTO:+0100
DTSTART:20251026T010000
TZNAME:CET
END:STANDARD
END:VTIMEZONE
END:VCALENDAR
