BEGIN:VCALENDAR
VERSION:2.0
PRODID:-//Events | FID-Recht//NONSGML Events//EN
CALSCALE:GREGORIAN
X-ORIGINAL-URL:https://events.intrecht.de/termine/
X-WR-CALDESC:Events | FID-Recht - Events
BEGIN:VEVENT
UID:20200603T1418Z-1591193923.3362-EO-587-1@172.16.200.141
STATUS:CONFIRMED
DTSTAMP:20260422T141704Z
CREATED:20240508T065659Z
LAST-MODIFIED:20240508T065659Z
DTSTART;VALUE=DATE:20240709
DTEND;VALUE=DATE:20240710
SUMMARY: Positivistisches Rechtsdenken: Lösung oder Teil des Problems? (Hyb
 rid Event / Reihe Provenienz des Rechts: Zum Umgang mit Antisemitismus\, Ra
 ssismus und Sexismus im juristischen Wissen)
DESCRIPTION: 9.7.2024 / Online und Berlin https://www.rewi.hu-berlin.de/de/
 lf/oe/lsi/provenienz-reihe-positivistisches-rechtsdenken-loesung-oder-teil-
 des-probelms
X-ALT-DESC;FMTTYPE=text/html: <p>9.7.2024 / Online und Berlin</p><p><a href
 ="https://www.rewi.hu-berlin.de/de/lf/oe/lsi/provenienz-reihe-positivistisc
 hes-rechtsdenken-loesung-oder-teil-des-probelms">https://www.rewi.hu-berlin
 .de/de/lf/oe/lsi/provenienz-reihe-positivistisches-rechtsdenken-loesung-ode
 r-teil-des-probelms</a></p><p>[av_button label='iCal-Export' link='./feed/e
 o-events' link_target='' size='small' position='center' label_display='' ti
 tle_attr='' icon_select='yes' icon='ue85b' font='entypo-fontello' color='cu
 stom' custom_bg='#b5123e' custom_font='#ffffff' av_uid='' id='' custom_clas
 s='' admin_preview_bg='']</p>
CATEGORIES:Recht interdisziplinär
LOCATION:Hybrid
GEO:0.000000;0.000000
ORGANIZER;CN="ViFa-Recht":MAILTO:vifa-recht@sbb.spk-berlin.de
URL;VALUE=URI:https://events.intrecht.de/termine/termin/positivistisches-re
 chtsdenken-loesung-oder-teil-des-problems-hybrid-event-reihe-provenienz-des
 -rechts-zum-umgang-mit-antisemitismus-rassismus-und-sexismus-im-juristische
 n-wissen/
END:VEVENT
BEGIN:VTIMEZONE
TZID:Europe/Berlin
BEGIN:DAYLIGHT
TZOFFSETFROM:+0100
TZOFFSETTO:+0200
DTSTART:20240331T010000
TZNAME:CEST
END:DAYLIGHT
END:VTIMEZONE
END:VCALENDAR
