BEGIN:VCALENDAR
VERSION:2.0
PRODID:-//Events | FID-Recht//NONSGML Events//EN
CALSCALE:GREGORIAN
X-ORIGINAL-URL:https://events.intrecht.de/termine/
X-WR-CALDESC:Events | FID-Recht - Events
BEGIN:VEVENT
UID:20220330T1731Z-1648661478.1233-EO-6426-1@172.16.200.141
STATUS:CONFIRMED
DTSTAMP:20260421T184925Z
CREATED:20220329T111035Z
LAST-MODIFIED:20220331T104329Z
DTSTART;VALUE=DATE:20220608
DTEND;VALUE=DATE:20221011
SUMMARY: Populism and the New Foreign Relations Law – Between Public Intern
 ational Law\, ‚External Public Law‘\, and Conflict of Laws (with Anne Peter
 s\, Ralf Michaels and Karen Knop) (Seminar)
DESCRIPTION: 8.-10.6.2022\, Heidelberg (Bewerbungsfrist: 24.4.2022) https:/
 /www.mpil.de/files/pdf6/2022-summer-school-cfa_mp-law-populism.pdf    
X-ALT-DESC;FMTTYPE=text/html: <p>8.-10.6.2022\, Heidelberg (Bewerbungsfrist
 : 24.4.2022)</p><p><a href="https://www.mpil.de/files/pdf6/2022-summer-scho
 ol-cfa_mp-law-populism.pdf">https://www.mpil.de/files/pdf6/2022-summer-scho
 ol-cfa_mp-law-populism.pdf</a></p><p> </p><p> </p><p>[av_button label='iCal
 -Export' link='./feed/eo-events' link_target='' size='small' position='cent
 er' label_display='' title_attr='' icon_select='yes' icon='ue85b' font='ent
 ypo-fontello' color='custom' custom_bg='#b5123e' custom_font='#ffffff' av_u
 id='' id='' custom_class='' admin_preview_bg='']</p>
CATEGORIES:Europäisches / Internationales Recht
LOCATION:Inland
GEO:0.000000;0.000000
ORGANIZER;CN="ViFa-Recht":MAILTO:vifa-recht@sbb.spk-berlin.de
URL;VALUE=URI:https://events.intrecht.de/termine/termin/populism-and-the-ne
 w-foreign-relations-law-between-public-international-law-external-public-la
 w-and-conflict-of-laws-with-anne-peters-ralf-michaels-and-karen-knop-sem/
END:VEVENT
BEGIN:VTIMEZONE
TZID:Europe/Berlin
BEGIN:DAYLIGHT
TZOFFSETFROM:+0100
TZOFFSETTO:+0200
DTSTART:20220327T010000
TZNAME:CEST
END:DAYLIGHT
END:VTIMEZONE
END:VCALENDAR
