BEGIN:VCALENDAR
VERSION:2.0
PRODID:-//Events | FID-Recht//NONSGML Events//EN
CALSCALE:GREGORIAN
X-ORIGINAL-URL:https://events.intrecht.de/termine/
X-WR-CALDESC:Events | FID-Recht - Events
BEGIN:VEVENT
UID:20201001T0204Z-1601517845.4486-EO-1586-1@172.16.200.141
STATUS:CONFIRMED
DTSTAMP:20260422T160849Z
CREATED:20200925T105328Z
LAST-MODIFIED:20210201T105732Z
DTSTART;VALUE=DATE:20201015
DTEND;VALUE=DATE:20201016
SUMMARY: Politik und Recht im Kontext von Asyl und Migration: Interdiszipli
 näre Perspektiven (Workshop) (Call)
DESCRIPTION: CORONABEDINGT VERSCHOBEN (Ersatztermin noch nicht bekanntgegeb
 en). 18.-19.2.2021\, Berlin (Frist für Einreichungen: 15.10.2020) https://w
 ww.rewi.hu-berlin.de/de/lf/oe/lsi/neuigkeiten-1/copy_of_call-for-papers-fue
 r-den-workshop-politik-und-recht-im-kontext-von-asyl-und-migration-interdis
 ziplinaere-perspektiven    
X-ALT-DESC;FMTTYPE=text/html: <p>CORONABEDINGT VERSCHOBEN (Ersatztermin noc
 h nicht bekanntgegeben).</p><p>18.-19.2.2021\, Berlin (Frist für Einreichun
 gen: 15.10.2020)</p><p><a href="https://www.rewi.hu-berlin.de/de/lf/oe/lsi/
 neuigkeiten-1/copy_of_call-for-papers-fuer-den-workshop-politik-und-recht-i
 m-kontext-von-asyl-und-migration-interdisziplinaere-perspektiven">https://w
 ww.rewi.hu-berlin.de/de/lf/oe/lsi/neuigkeiten-1/copy_of_call-for-papers-fue
 r-den-workshop-politik-und-recht-im-kontext-von-asyl-und-migration-interdis
 ziplinaere-perspektiven</a></p><p> </p><p> </p><p>[av_button label='iCal-Ex
 port' link='./feed/eo-events' link_target='' size='small' position='center'
  label_display='' title_attr='' icon_select='yes' icon='ue85b' font='entypo
 -fontello' color='custom' custom_bg='#b5123e' custom_font='#ffffff' av_uid=
 '' id='' custom_class='' admin_preview_bg='']</p>
CATEGORIES:Europäisches / Internationales Recht,Öffentliches Recht,Recht interdisziplinär
LOCATION:Inland
GEO:0.000000;0.000000
ORGANIZER;CN="ViFa-Recht":MAILTO:vifa-recht@sbb.spk-berlin.de
URL;VALUE=URI:https://events.intrecht.de/termine/termin/politik-und-recht-i
 m-kontext-von-asyl-und-migration-interdisziplinaere-perspektiven-workshop-c
 all/
END:VEVENT
BEGIN:VTIMEZONE
TZID:Europe/Berlin
BEGIN:DAYLIGHT
TZOFFSETFROM:+0100
TZOFFSETTO:+0200
DTSTART:20200329T010000
TZNAME:CEST
END:DAYLIGHT
END:VTIMEZONE
END:VCALENDAR
