BEGIN:VCALENDAR
VERSION:2.0
PRODID:-//Events | FID-Recht//NONSGML Events//EN
CALSCALE:GREGORIAN
X-ORIGINAL-URL:https://events.intrecht.de/termine/
X-WR-CALDESC:Events | FID-Recht - Events
BEGIN:VEVENT
UID:20200603T1418Z-1591193923.3362-EO-587-1@172.16.200.141
STATUS:CONFIRMED
DTSTAMP:20260425T122227Z
CREATED:20230413T080743Z
LAST-MODIFIED:20230413T080743Z
DTSTART;VALUE=DATE:20230426
DTEND;VALUE=DATE:20230427
SUMMARY: Polanyi and List Meet in Brussels: Digital Sovereignty and the Fut
 ure of EU Digital Policymaking (Online-Veranstaltung)
DESCRIPTION: 26.4.2023 / Online https://www.wzb.eu/de/veranstaltungen/polan
 yi-and-list-meet-in-brussels-digital-sovereignty-and-the-future-of-eu-digit
 al-policymaking
X-ALT-DESC;FMTTYPE=text/html: <p>26.4.2023 / Online</p><p><a href="https://
 www.wzb.eu/de/veranstaltungen/polanyi-and-list-meet-in-brussels-digital-sov
 ereignty-and-the-future-of-eu-digital-policymaking">https://www.wzb.eu/de/v
 eranstaltungen/polanyi-and-list-meet-in-brussels-digital-sovereignty-and-th
 e-future-of-eu-digital-policymaking</a></p><p>[av_button label='iCal-Export
 ' link='./feed/eo-events' link_target='' size='small' position='center' lab
 el_display='' title_attr='' icon_select='yes' icon='ue85b' font='entypo-fon
 tello' color='custom' custom_bg='#b5123e' custom_font='#ffffff' av_uid='' i
 d='' custom_class='' admin_preview_bg='']</p>
CATEGORIES:Recht interdisziplinär
LOCATION:Online
GEO:0.000000;0.000000
ORGANIZER;CN="ViFa-Recht":MAILTO:vifa-recht@sbb.spk-berlin.de
URL;VALUE=URI:https://events.intrecht.de/termine/termin/polanyi-and-list-me
 et-in-brussels-digital-sovereignty-and-the-future-of-eu-digital-policymakin
 g-online-veranstaltung/
END:VEVENT
BEGIN:VTIMEZONE
TZID:Europe/Berlin
BEGIN:DAYLIGHT
TZOFFSETFROM:+0100
TZOFFSETTO:+0200
DTSTART:20230326T010000
TZNAME:CEST
END:DAYLIGHT
END:VTIMEZONE
END:VCALENDAR
