BEGIN:VCALENDAR
VERSION:2.0
PRODID:-//Events | FID-Recht//NONSGML Events//EN
CALSCALE:GREGORIAN
X-ORIGINAL-URL:https://events.intrecht.de/termine/
X-WR-CALDESC:Events | FID-Recht - Events
BEGIN:VEVENT
UID:20230511T0315Z-1683774945.5083-EO-8303-1@172.16.200.151
STATUS:CONFIRMED
DTSTAMP:20260425T150313Z
CREATED:20230207T160951Z
LAST-MODIFIED:20230207T160951Z
DTSTART;VALUE=DATE:20230511
DTEND;VALUE=DATE:20230512
SUMMARY: Plural Visions of Law – The Legacy of Joseph Raz (Hybrid Conferenc
 e)
DESCRIPTION: 11.5.2023 / Online und York https://mcusercontent.com/47624183
 ad52dd8428c97d3f6/files/cc77b489-007a-b846-1041-6437247e94bb/Plural_Visions
 _of_Law_Call.pdf  
X-ALT-DESC;FMTTYPE=text/html: <p>11.5.2023 / Online und York</p><p><a href=
 "https://mcusercontent.com/47624183ad52dd8428c97d3f6/files/cc77b489-007a-b8
 46-1041-6437247e94bb/Plural_Visions_of_Law_Call.pdf">https://mcusercontent.
 com/47624183ad52dd8428c97d3f6/files/cc77b489-007a-b846-1041-6437247e94bb/Pl
 ural_Visions_of_Law_Call.pdf</a></p><p> </p><p>[av_button label='iCal-Expor
 t' link='./feed/eo-events' link_target='' size='small' position='center' la
 bel_display='' title_attr='' icon_select='yes' icon='ue85b' font='entypo-fo
 ntello' color='custom' custom_bg='#b5123e' custom_font='#ffffff' av_uid='' 
 id='' custom_class='' admin_preview_bg='']</p>
CATEGORIES:Recht interdisziplinär
LOCATION:Online
GEO:0.000000;0.000000
ORGANIZER;CN="ViFa-Recht":MAILTO:vifa-recht@sbb.spk-berlin.de
URL;VALUE=URI:https://events.intrecht.de/termine/termin/plural-visions-of-l
 aw-the-legacy-of-joseph-raz-hybrid-conference/
END:VEVENT
BEGIN:VTIMEZONE
TZID:Europe/Berlin
BEGIN:DAYLIGHT
TZOFFSETFROM:+0100
TZOFFSETTO:+0200
DTSTART:20230326T010000
TZNAME:CEST
END:DAYLIGHT
END:VTIMEZONE
END:VCALENDAR
