BEGIN:VCALENDAR
VERSION:2.0
PRODID:-//Events | FID-Recht//NONSGML Events//EN
CALSCALE:GREGORIAN
X-ORIGINAL-URL:https://events.intrecht.de/termine/
X-WR-CALDESC:Events | FID-Recht - Events
BEGIN:VEVENT
UID:20200603T1418Z-1591193923.3362-EO-587-1@172.16.200.141
STATUS:CONFIRMED
DTSTAMP:20260422T140520Z
CREATED:20240411T161922Z
LAST-MODIFIED:20240411T161922Z
DTSTART;VALUE=DATE:20241107
DTEND;VALUE=DATE:20241109
SUMMARY: Plattformforschung nach dem Digital Services Act (Tagung)
DESCRIPTION: 7.-8.11.2024 / Berlin (Einreichungsfrist: 13.5.2024) https://t
 ausend-plattformen.tech/
X-ALT-DESC;FMTTYPE=text/html: <p>7.-8.11.2024 / Berlin <strong>(Einreichung
 sfrist: 13.5.2024)</strong></p><p><a href="https://tausend-plattformen.tech
 /">https://tausend-plattformen.tech/</a></p><p>[av_button label='iCal-Expor
 t' link='./feed/eo-events' link_target='' size='small' position='center' la
 bel_display='' title_attr='' icon_select='yes' icon='ue85b' font='entypo-fo
 ntello' color='custom' custom_bg='#b5123e' custom_font='#ffffff' av_uid='' 
 id='' custom_class='' admin_preview_bg='']</p>
CATEGORIES:Recht interdisziplinär
LOCATION:Inland
GEO:0.000000;0.000000
ORGANIZER;CN="ViFa-Recht":MAILTO:vifa-recht@sbb.spk-berlin.de
URL;VALUE=URI:https://events.intrecht.de/termine/termin/plattformforschung-
 nach-dem-digital-services-act-tagung/
END:VEVENT
BEGIN:VTIMEZONE
TZID:Europe/Berlin
BEGIN:STANDARD
TZOFFSETFROM:+0200
TZOFFSETTO:+0100
DTSTART:20241027T010000
TZNAME:CET
END:STANDARD
END:VTIMEZONE
END:VCALENDAR
