BEGIN:VCALENDAR
VERSION:2.0
PRODID:-//Events | FID-Recht//NONSGML Events//EN
CALSCALE:GREGORIAN
X-ORIGINAL-URL:https://events.intrecht.de/termine/
X-WR-CALDESC:Events | FID-Recht - Events
BEGIN:VEVENT
UID:20200603T1418Z-1591193923.3362-EO-587-1@172.16.200.141
STATUS:CONFIRMED
DTSTAMP:20260425T181140Z
CREATED:20231113T112552Z
LAST-MODIFIED:20231113T112552Z
DTSTART;VALUE=DATE:20240109
DTEND;VALUE=DATE:20240110
SUMMARY: Planetare Grenzen ernstgenommen: Brauchen wir ein Suffizienzrecht?
  (Vortrag)
DESCRIPTION: 9.1.2024 / Online und Berlin https://www.rewi.hu-berlin.de/de/
 lf/oe/lsi/termine/planetare-grenzen-ernstgenommen-brauchen-wir-ein-suffizie
 nzrecht
X-ALT-DESC;FMTTYPE=text/html: <p>9.1.2024 / Online und Berlin</p><p><a href
 ="https://www.rewi.hu-berlin.de/de/lf/oe/lsi/termine/planetare-grenzen-erns
 tgenommen-brauchen-wir-ein-suffizienzrecht">https://www.rewi.hu-berlin.de/d
 e/lf/oe/lsi/termine/planetare-grenzen-ernstgenommen-brauchen-wir-ein-suffiz
 ienzrecht</a></p><p>[av_button label='iCal-Export' link='./feed/eo-events' 
 link_target='' size='small' position='center' label_display='' title_attr='
 ' icon_select='yes' icon='ue85b' font='entypo-fontello' color='custom' cust
 om_bg='#b5123e' custom_font='#ffffff' av_uid='' id='' custom_class='' admin
 _preview_bg='']</p>
CATEGORIES:Recht interdisziplinär
LOCATION:Online
GEO:0.000000;0.000000
ORGANIZER;CN="ViFa-Recht":MAILTO:vifa-recht@sbb.spk-berlin.de
URL;VALUE=URI:https://events.intrecht.de/termine/termin/planetare-grenzen-e
 rnstgenommen-brauchen-wir-ein-suffizienzrecht-vortrag/
END:VEVENT
BEGIN:VTIMEZONE
TZID:Europe/Berlin
BEGIN:STANDARD
TZOFFSETFROM:+0200
TZOFFSETTO:+0100
DTSTART:20231029T010000
TZNAME:CET
END:STANDARD
END:VTIMEZONE
END:VCALENDAR
