BEGIN:VCALENDAR
VERSION:2.0
PRODID:-//Events | FID-Recht//NONSGML Events//EN
CALSCALE:GREGORIAN
X-ORIGINAL-URL:https://events.intrecht.de/termine/
X-WR-CALDESC:Events | FID-Recht - Events
BEGIN:VEVENT
UID:20211027T1025Z-1635330339.5688-EO-4913-1@172.16.200.141
STATUS:CONFIRMED
DTSTAMP:20260420T111736Z
CREATED:20211026T145630Z
LAST-MODIFIED:20211026T145923Z
DTSTART;TZID=Europe/Berlin:20211028T153000
DTEND;TZID=Europe/Berlin:20211028T170000
SUMMARY: Pierre Bourdieu’s concept of field and the study of international 
 law (with Aurélien Godefroy) (Online-Vortrag)
DESCRIPTION: 28.10.2021\, Online https://www.mpil.de/apps/eventcalendar/dat
 a/pdf1/aurelien-godefroy_28_10.pdf  
X-ALT-DESC;FMTTYPE=text/html: <p>28.10.2021\, Online</p><p><a href="https:/
 /www.mpil.de/apps/eventcalendar/data/pdf1/aurelien-godefroy_28_10.pdf">http
 s://www.mpil.de/apps/eventcalendar/data/pdf1/aurelien-godefroy_28_10.pdf</a
 ></p><p> </p><p>[av_button label='iCal-Export' link='./feed/eo-events' link
 _target='' size='small' position='center' label_display='' title_attr='' ic
 on_select='yes' icon='ue85b' font='entypo-fontello' color='custom' custom_b
 g='#b5123e' custom_font='#ffffff' av_uid='' id='' custom_class='' admin_pre
 view_bg='']</p>
CATEGORIES:Europäisches / Internationales Recht
LOCATION:Online
GEO:0.000000;0.000000
ORGANIZER;CN="ViFa-Recht":MAILTO:vifa-recht@sbb.spk-berlin.de
URL;VALUE=URI:https://events.intrecht.de/termine/termin/pierre-bourdieus-co
 ncept-of-field-and-the-study-of-international-law-with-aurelien-godefroy-on
 line-vortrag/
END:VEVENT
BEGIN:VTIMEZONE
TZID:Europe/Berlin
BEGIN:DAYLIGHT
TZOFFSETFROM:+0200
TZOFFSETTO:+0200
DTSTART:20210328T010000
TZNAME:CEST
END:DAYLIGHT
END:VTIMEZONE
END:VCALENDAR
