BEGIN:VCALENDAR
VERSION:2.0
PRODID:-//Events | FID-Recht//NONSGML Events//EN
CALSCALE:GREGORIAN
X-ORIGINAL-URL:https://events.intrecht.de/termine/
X-WR-CALDESC:Events | FID-Recht - Events
BEGIN:VEVENT
UID:20210223T2241Z-1614120114.8805-EO-2789-1@172.16.200.141
STATUS:CONFIRMED
DTSTAMP:20260423T005526Z
CREATED:20210129T143009Z
LAST-MODIFIED:20210129T143009Z
DTSTART;VALUE=DATE:20210408
DTEND;VALUE=DATE:20210410
SUMMARY: Philosophy of Law in Times of Crisis (Webinar)
DESCRIPTION: 8.-9.4.2021\, Online (Frist für Einreichungen: 5.3.2021) https
 ://ivronlineblog.wordpress.com/2020/10/12/turkey_webinar/    
X-ALT-DESC;FMTTYPE=text/html: <p>8.-9.4.2021\, Online (Frist für Einreichun
 gen: 5.3.2021)</p><p><a href="https://ivronlineblog.wordpress.com/2020/10/1
 2/turkey_webinar/">https://ivronlineblog.wordpress.com/2020/10/12/turkey_we
 binar/</a></p><p> </p><p> </p><p>[av_button label='iCal-Export' link='./fee
 d/eo-events' link_target='' size='small' position='center' label_display=''
  title_attr='' icon_select='yes' icon='ue85b' font='entypo-fontello' color=
 'custom' custom_bg='#b5123e' custom_font='#ffffff' av_uid='' id='' custom_c
 lass='' admin_preview_bg='']</p>
CATEGORIES:Recht interdisziplinär
LOCATION:Online
GEO:0.000000;0.000000
ORGANIZER;CN="ViFa-Recht":MAILTO:vifa-recht@sbb.spk-berlin.de
URL;VALUE=URI:https://events.intrecht.de/termine/termin/philosophy-of-law-i
 n-times-of-crisis-webinar/
END:VEVENT
BEGIN:VTIMEZONE
TZID:Europe/Berlin
BEGIN:DAYLIGHT
TZOFFSETFROM:+0100
TZOFFSETTO:+0200
DTSTART:20210328T010000
TZNAME:CEST
END:DAYLIGHT
END:VTIMEZONE
END:VCALENDAR
