BEGIN:VCALENDAR
VERSION:2.0
PRODID:-//Events | FID-Recht//NONSGML Events//EN
CALSCALE:GREGORIAN
X-ORIGINAL-URL:https://events.intrecht.de/termine/
X-WR-CALDESC:Events | FID-Recht - Events
BEGIN:VEVENT
UID:20210217T0037Z-1613522242.0697-EO-3350-1@172.16.200.141
STATUS:CONFIRMED
DTSTAMP:20260423T022429Z
CREATED:20210129T143048Z
LAST-MODIFIED:20210129T143048Z
DTSTART;VALUE=DATE:20210305
DTEND;VALUE=DATE:20210305
SUMMARY: Philosophy of Law in Times of Crisis (Webinar) (CfP)
DESCRIPTION: 8.-9.4.2021\, Online (Frist für Einreichungen: 5.3.2021) https
 ://ivronlineblog.wordpress.com/2020/10/12/turkey_webinar/    
X-ALT-DESC;FMTTYPE=text/html: <p>8.-9.4.2021\, Online (Frist für Einreichun
 gen: 5.3.2021)</p><p><a href="https://ivronlineblog.wordpress.com/2020/10/1
 2/turkey_webinar/">https://ivronlineblog.wordpress.com/2020/10/12/turkey_we
 binar/</a></p><p> </p><p> </p><p>[av_button label='iCal-Export' link='./fee
 d/eo-events' link_target='' size='small' position='center' label_display=''
  title_attr='' icon_select='yes' icon='ue85b' font='entypo-fontello' color=
 'custom' custom_bg='#b5123e' custom_font='#ffffff' av_uid='' id='' custom_c
 lass='' admin_preview_bg='']</p>
CATEGORIES:Recht interdisziplinär
LOCATION:Online
GEO:0.000000;0.000000
ORGANIZER;CN="ViFa-Recht":MAILTO:vifa-recht@sbb.spk-berlin.de
URL;VALUE=URI:https://events.intrecht.de/termine/termin/philosophy-of-law-i
 n-times-of-crisis-webinar-cfp/
END:VEVENT
BEGIN:VTIMEZONE
TZID:Europe/Berlin
BEGIN:STANDARD
TZOFFSETFROM:+0200
TZOFFSETTO:+0100
DTSTART:20201025T010000
TZNAME:CET
END:STANDARD
END:VTIMEZONE
END:VCALENDAR
