BEGIN:VCALENDAR
VERSION:2.0
PRODID:-//Events | FID-Recht//NONSGML Events//EN
CALSCALE:GREGORIAN
X-ORIGINAL-URL:https://events.intrecht.de/termine/
X-WR-CALDESC:Events | FID-Recht - Events
BEGIN:VEVENT
UID:20200603T1418Z-1591193923.3362-EO-587-1@172.16.200.141
STATUS:CONFIRMED
DTSTAMP:20260422T211823Z
CREATED:20241111T134638Z
LAST-MODIFIED:20241111T134638Z
DTSTART;VALUE=DATE:20241113
DTEND;VALUE=DATE:20241114
SUMMARY: Pflicht zum sofortigen Rückzug? Das Palästina-Gutachten des Intern
 ationalen Gerichtshofs vom 19. Juli 2024 (Vortrag / Völkerrechtliche Tagest
 hemen)
DESCRIPTION: 13.11.2024 / Kiel https://www.uni-kiel.de/de/jura/forschung/ws
 i/veranstaltungen/voelkerrechtliche-tagesthemen
X-ALT-DESC;FMTTYPE=text/html: <p>13.11.2024 / Kiel</p><p><a href="https://w
 ww.uni-kiel.de/de/jura/forschung/wsi/veranstaltungen/voelkerrechtliche-tage
 sthemen">https://www.uni-kiel.de/de/jura/forschung/wsi/veranstaltungen/voel
 kerrechtliche-tagesthemen</a></p><p>[av_button label='iCal-Export' link='./
 feed/eo-events' link_target='' size='small' position='center' label_display
 ='' title_attr='' icon_select='yes' icon='ue85b' font='entypo-fontello' col
 or='custom' custom_bg='#b5123e' custom_font='#ffffff' av_uid='' id='' custo
 m_class='' admin_preview_bg='']</p>
CATEGORIES:Europäisches / Internationales Recht
LOCATION:Inland
GEO:0.000000;0.000000
ORGANIZER;CN="ViFa-Recht":MAILTO:vifa-recht@sbb.spk-berlin.de
URL;VALUE=URI:https://events.intrecht.de/termine/termin/pflicht-zum-soforti
 gen-rueckzug-das-palaestina-gutachten-des-internationalen-gerichtshofs-vom-
 19-juli-2024-vortrag-voelkerrechtliche-tagesthemen/
END:VEVENT
BEGIN:VTIMEZONE
TZID:Europe/Berlin
BEGIN:STANDARD
TZOFFSETFROM:+0200
TZOFFSETTO:+0100
DTSTART:20241027T010000
TZNAME:CET
END:STANDARD
END:VTIMEZONE
END:VCALENDAR
