BEGIN:VCALENDAR
VERSION:2.0
PRODID:-//Events | FID-Recht//NONSGML Events//EN
CALSCALE:GREGORIAN
X-ORIGINAL-URL:https://events.intrecht.de/termine/
X-WR-CALDESC:Events | FID-Recht - Events
BEGIN:VEVENT
UID:20220405T1353Z-1649166782.7939-EO-6429-1@172.16.200.141
STATUS:CONFIRMED
DTSTAMP:20260425T180027Z
CREATED:20220404T165338Z
LAST-MODIFIED:20220422T111550Z
DTSTART;TZID=Europe/Berlin:20220502T190000
DTEND;TZID=Europe/Berlin:20220502T210000
SUMMARY: Personenbegriff bei Kant – Normtypabhängige Autonomie? (mit Tobias
  Herbst) (Vortrag)
DESCRIPTION: VERLEGT AUF ANALOG: 2.5.2022\, Berlin Personbegriffe bei Kant:
  Normtypabhängige Autonomie? (rechtimkontext.de)    
X-ALT-DESC;FMTTYPE=text/html: <p><strong>VERLEGT AUF ANALOG: </strong>2.5.2
 022\, Berlin</p><p><a href="https://www.rechtimkontext.de/veranstaltungen/v
 eranstaltung/personbegriffe-bei-kant-normtypabhaengige-autonomie/">Personbe
 griffe bei Kant: Normtypabhängige Autonomie? (rechtimkontext.de)</a></p><p>
  </p><p> </p><p>[av_button label='iCal-Export' link='./feed/eo-events' link
 _target='' size='small' position='center' label_display='' title_attr='' ic
 on_select='yes' icon='ue85b' font='entypo-fontello' color='custom' custom_b
 g='#b5123e' custom_font='#ffffff' av_uid='' id='' custom_class='' admin_pre
 view_bg='']</p>
CATEGORIES:Recht interdisziplinär
LOCATION:Inland
GEO:0.000000;0.000000
ORGANIZER;CN="ViFa-Recht":MAILTO:vifa-recht@sbb.spk-berlin.de
URL;VALUE=URI:https://events.intrecht.de/termine/termin/personenbegriff-bei
 -kant-normtypabhaengige-autonomie-mit-tobias-herbst-online-vortrag/
END:VEVENT
BEGIN:VTIMEZONE
TZID:Europe/Berlin
BEGIN:DAYLIGHT
TZOFFSETFROM:+0100
TZOFFSETTO:+0200
DTSTART:20220327T010000
TZNAME:CEST
END:DAYLIGHT
END:VTIMEZONE
END:VCALENDAR
