BEGIN:VCALENDAR
VERSION:2.0
PRODID:-//Events | FID-Recht//NONSGML Events//EN
CALSCALE:GREGORIAN
X-ORIGINAL-URL:https://events.intrecht.de/termine/
X-WR-CALDESC:Events | FID-Recht - Events
BEGIN:VEVENT
UID:20200603T1418Z-1591193923.3362-EO-587-1@172.16.200.141
STATUS:CONFIRMED
DTSTAMP:20260423T035343Z
CREATED:20250218T084826Z
LAST-MODIFIED:20250218T084826Z
DTSTART;VALUE=DATE:20250924
DTEND;VALUE=DATE:20250926
SUMMARY: Person – Subjekt – Individuum (33. Tagung des Jungen Forums für Re
 chtsphilosophie (JFR))
DESCRIPTION: 24.-25.9.2025 / Münster (Einreichungsfrist: 31.3.2025) https:/
 /www.jungesforumrechtsphilosophie.com/events/2025-muenster
X-ALT-DESC;FMTTYPE=text/html: <p>24.-25.9.2025 / Münster <strong>(Einreichu
 ngsfrist: 31.3.2025)</strong></p><p><a href="https://www.jungesforumrechtsp
 hilosophie.com/events/2025-muenster">https://www.jungesforumrechtsphilosoph
 ie.com/events/2025-muenster</a></p><p>[av_button label='iCal-Export' link='
 ./feed/eo-events' link_target='' size='small' position='center' label_displ
 ay='' title_attr='' icon_select='yes' icon='ue85b' font='entypo-fontello' c
 olor='custom' custom_bg='#b5123e' custom_font='#ffffff' av_uid='' id='' cus
 tom_class='' admin_preview_bg='']</p>
CATEGORIES:Recht interdisziplinär
LOCATION:Inland
GEO:0.000000;0.000000
ORGANIZER;CN="ViFa-Recht":MAILTO:vifa-recht@sbb.spk-berlin.de
URL;VALUE=URI:https://events.intrecht.de/termine/termin/person-subjekt-indi
 viduum-33-tagung-des-jungen-forums-fuer-rechtsphilosophie-jfr/
END:VEVENT
BEGIN:VTIMEZONE
TZID:Europe/Berlin
BEGIN:DAYLIGHT
TZOFFSETFROM:+0100
TZOFFSETTO:+0200
DTSTART:20250330T010000
TZNAME:CEST
END:DAYLIGHT
END:VTIMEZONE
END:VCALENDAR
