BEGIN:VCALENDAR
VERSION:2.0
PRODID:-//Events | FID-Recht//NONSGML Events//EN
CALSCALE:GREGORIAN
X-ORIGINAL-URL:https://events.intrecht.de/termine/
X-WR-CALDESC:Events | FID-Recht - Events
BEGIN:VEVENT
UID:20211007T1955Z-1633636545.718-EO-4439-1@172.16.200.141
STATUS:CONFIRMED
DTSTAMP:20260425T183119Z
CREATED:20211005T170224Z
LAST-MODIFIED:20211005T170225Z
DTSTART;VALUE=DATE:20211108
DTEND;VALUE=DATE:20211109
SUMMARY: ‘Peopling the country by unpeopling it’ – Jeremy Bentham’s silence
 s on indigenous Australia (Online-Vortrag)
DESCRIPTION: 8.11.2021\, Online https://www.lhlt.mpg.de/2547554/event-21-11
 -08-common-law-research-seminar.html    
X-ALT-DESC;FMTTYPE=text/html: <p>8.11.2021\, Online</p><p><a href="https://
 www.lhlt.mpg.de/2547554/event-21-11-08-common-law-research-seminar.html">ht
 tps://www.lhlt.mpg.de/2547554/event-21-11-08-common-law-research-seminar.ht
 ml</a></p><p> </p><p> </p><p>[av_button label='iCal-Export' link='./feed/eo
 -events' link_target='' size='small' position='center' label_display='' tit
 le_attr='' icon_select='yes' icon='ue85b' font='entypo-fontello' color='cus
 tom' custom_bg='#b5123e' custom_font='#ffffff' av_uid='' id='' custom_class
 ='' admin_preview_bg='']</p>
CATEGORIES:Europäisches / Internationales Recht,Recht interdisziplinär
LOCATION:Online
GEO:0.000000;0.000000
ORGANIZER;CN="ViFa-Recht":MAILTO:vifa-recht@sbb.spk-berlin.de
URL;VALUE=URI:https://events.intrecht.de/termine/termin/peopling-the-countr
 y-by-unpeopling-it-jeremy-benthams-silences-on-indigenous-australia-online-
 vortrag/
END:VEVENT
BEGIN:VTIMEZONE
TZID:Europe/Berlin
BEGIN:STANDARD
TZOFFSETFROM:+0200
TZOFFSETTO:+0100
DTSTART:20211031T010000
TZNAME:CET
END:STANDARD
END:VTIMEZONE
END:VCALENDAR
