BEGIN:VCALENDAR
VERSION:2.0
PRODID:-//Events | FID-Recht//NONSGML Events//EN
CALSCALE:GREGORIAN
X-ORIGINAL-URL:https://events.intrecht.de/termine/
X-WR-CALDESC:Events | FID-Recht - Events
BEGIN:VEVENT
UID:20201217T0339Z-1608176393.1696-EO-2486-1@172.16.200.141
STATUS:CONFIRMED
DTSTAMP:20260421T102523Z
CREATED:20201210T191448Z
LAST-MODIFIED:20201210T191554Z
DTSTART;VALUE=DATE:20201210
DTEND;VALUE=DATE:20201211
SUMMARY: People\, Processes\, Politics – Icelandic Constitutional Reform 20
 09-2017 (Online-Buchpräsentation)
DESCRIPTION: 10.12.2020\, Online https://www.unak.is/english/upcoming-event
 s/icelandic-constitutional-reform    
X-ALT-DESC;FMTTYPE=text/html: <p>10.12.2020\, Online</p><p><a href="https:/
 /www.unak.is/english/upcoming-events/icelandic-constitutional-reform">https
 ://www.unak.is/english/upcoming-events/icelandic-constitutional-reform</a><
 /p><p> </p><p> </p><p>[av_button label='iCal-Export' link='./feed/eo-events
 ' link_target='' size='small' position='center' label_display='' title_attr
 ='' icon_select='yes' icon='ue85b' font='entypo-fontello' color='custom' cu
 stom_bg='#b5123e' custom_font='#ffffff' av_uid='' id='' custom_class='' adm
 in_preview_bg='']</p>
CATEGORIES:Europäisches / Internationales Recht,Öffentliches Recht,Recht interdisziplinär
LOCATION:Online
GEO:0.000000;0.000000
ORGANIZER;CN="ViFa-Recht":MAILTO:vifa-recht@sbb.spk-berlin.de
URL;VALUE=URI:https://events.intrecht.de/termine/termin/people-processes-po
 litics-icelandic-constitutional-reform-2009-2017-online-buchpraesentation/
END:VEVENT
BEGIN:VTIMEZONE
TZID:Europe/Berlin
BEGIN:STANDARD
TZOFFSETFROM:+0200
TZOFFSETTO:+0100
DTSTART:20201025T010000
TZNAME:CET
END:STANDARD
END:VTIMEZONE
END:VCALENDAR
