BEGIN:VCALENDAR
VERSION:2.0
PRODID:-//Events | FID-Recht//NONSGML Events//EN
CALSCALE:GREGORIAN
X-ORIGINAL-URL:https://events.intrecht.de/termine/
X-WR-CALDESC:Events | FID-Recht - Events
BEGIN:VEVENT
UID:20230324T1531Z-1679671917.4835-EO-8130-1@172.16.200.151
STATUS:CONFIRMED
DTSTAMP:20260426T031141Z
CREATED:20230123T122808Z
LAST-MODIFIED:20230123T122808Z
DTSTART;VALUE=DATE:20230224
DTEND;VALUE=DATE:20230225
SUMMARY: Paving the Way into the Future of Cyberspace: The UN Project of a 
 Global Digital Compact (Vortrag)
DESCRIPTION: 24.2.2023 / Berlin https://dgvn.de/aktivitaeten/einzelansicht/
 paving-the-way-into-the-future-of-cyberspace-the-un-project-of-a-global-dig
 ital-compact  
X-ALT-DESC;FMTTYPE=text/html: <p>24.2.2023 / Berlin</p><p><a href="https://
 dgvn.de/aktivitaeten/einzelansicht/paving-the-way-into-the-future-of-cybers
 pace-the-un-project-of-a-global-digital-compact">https://dgvn.de/aktivitaet
 en/einzelansicht/paving-the-way-into-the-future-of-cyberspace-the-un-projec
 t-of-a-global-digital-compact</a></p><p> </p><p>[av_button label='iCal-Expo
 rt' link='./feed/eo-events' link_target='' size='small' position='center' l
 abel_display='' title_attr='' icon_select='yes' icon='ue85b' font='entypo-f
 ontello' color='custom' custom_bg='#b5123e' custom_font='#ffffff' av_uid=''
  id='' custom_class='' admin_preview_bg='']</p>
CATEGORIES:Europäisches / Internationales Recht
LOCATION:Inland
GEO:0.000000;0.000000
ORGANIZER;CN="ViFa-Recht":MAILTO:vifa-recht@sbb.spk-berlin.de
URL;VALUE=URI:https://events.intrecht.de/termine/termin/paving-the-way-into
 -the-future-of-cyberspace-the-un-project-of-a-global-digital-compact-vortra
 g/
END:VEVENT
BEGIN:VTIMEZONE
TZID:Europe/Berlin
BEGIN:STANDARD
TZOFFSETFROM:+0200
TZOFFSETTO:+0100
DTSTART:20221030T010000
TZNAME:CET
END:STANDARD
END:VTIMEZONE
END:VCALENDAR
