BEGIN:VCALENDAR
VERSION:2.0
PRODID:-//Events | FID-Recht//NONSGML Events//EN
CALSCALE:GREGORIAN
X-ORIGINAL-URL:https://events.intrecht.de/termine/
X-WR-CALDESC:Events | FID-Recht - Events
BEGIN:VEVENT
UID:20200603T1418Z-1591193923.3362-EO-587-1@172.16.200.141
STATUS:CONFIRMED
DTSTAMP:20260425T200120Z
CREATED:20250623T080402Z
LAST-MODIFIED:20250623T080402Z
DTSTART;VALUE=DATE:20250925
DTEND;VALUE=DATE:20250928
SUMMARY: Partikulär oder universell – generell oder kontextuell? Rechtsphil
 osophie zwischen Abstraktion und Konkretion (Tagung der IVR Deutsche Sektio
 n)
DESCRIPTION: 25.-27.9.2025 / Münster https://indico.uni-muenster.de/event/3
 510/
X-ALT-DESC;FMTTYPE=text/html: <p>25.-27.9.2025 / Münster</p><p><a href="htt
 ps://indico.uni-muenster.de/event/3510/">https://indico.uni-muenster.de/eve
 nt/3510/</a></p><p>[av_button label='iCal-Export' link='./feed/eo-events' l
 ink_target='' size='small' position='center' label_display='' title_attr=''
  icon_select='yes' icon='ue85b' font='entypo-fontello' color='custom' custo
 m_bg='#b5123e' custom_font='#ffffff' av_uid='' id='' custom_class='' admin_
 preview_bg='']</p>
CATEGORIES:Recht interdisziplinär
LOCATION:Inland
GEO:0.000000;0.000000
ORGANIZER;CN="ViFa-Recht":MAILTO:vifa-recht@sbb.spk-berlin.de
URL;VALUE=URI:https://events.intrecht.de/termine/termin/partikulaer-oder-un
 iversell-generell-oder-kontextuell-rechtsphilosophie-zwischen-abstraktion-u
 nd-konkretion-tagung-der-ivr-deutsche-sektion/
END:VEVENT
BEGIN:VTIMEZONE
TZID:Europe/Berlin
BEGIN:DAYLIGHT
TZOFFSETFROM:+0100
TZOFFSETTO:+0200
DTSTART:20250330T010000
TZNAME:CEST
END:DAYLIGHT
END:VTIMEZONE
END:VCALENDAR
