BEGIN:VCALENDAR
VERSION:2.0
PRODID:-//Events | FID-Recht//NONSGML Events//EN
CALSCALE:GREGORIAN
X-ORIGINAL-URL:https://events.intrecht.de/termine/
X-WR-CALDESC:Events | FID-Recht - Events
BEGIN:VEVENT
UID:20201124T1704Z-1606237445.4672-EO-2376-1@172.16.200.141
STATUS:CONFIRMED
DTSTAMP:20260421T115505Z
CREATED:20201123T171243Z
LAST-MODIFIED:20201123T171243Z
DTSTART;VALUE=DATE:20201202
DTEND;VALUE=DATE:20201202
SUMMARY: Parteien im vereinigten Deutschland (mit Benjamin Höhne) (Online-V
 ortrag)
DESCRIPTION: 2.12.2020 https://www.jura.uni-wuerzburg.de/lehrstuehle/schmah
 l/aktuelles/meldungen/single/news/parteien-im-vereinigten-deutschland-1/  
X-ALT-DESC;FMTTYPE=text/html: <p>2.12.2020</p><p><a href="https://www.jura.
 uni-wuerzburg.de/lehrstuehle/schmahl/aktuelles/meldungen/single/news/partei
 en-im-vereinigten-deutschland-1/">https://www.jura.uni-wuerzburg.de/lehrstu
 ehle/schmahl/aktuelles/meldungen/single/news/parteien-im-vereinigten-deutsc
 hland-1/</a></p><p> </p><p>[av_button label='iCal-Export' link='./feed/eo-e
 vents' link_target='' size='small' position='center' label_display='' title
 _attr='' icon_select='yes' icon='ue85b' font='entypo-fontello' color='custo
 m' custom_bg='#b5123e' custom_font='#ffffff' av_uid='' id='' custom_class='
 ' admin_preview_bg='']</p>
CATEGORIES:Öffentliches Recht,Recht interdisziplinär
LOCATION:Online
GEO:0.000000;0.000000
ORGANIZER;CN="ViFa-Recht":MAILTO:vifa-recht@sbb.spk-berlin.de
URL;VALUE=URI:https://events.intrecht.de/termine/termin/parteien-im-vereini
 gten-deutschland-mit-benjamin-hoehne-online-vortrag/
END:VEVENT
BEGIN:VTIMEZONE
TZID:Europe/Berlin
BEGIN:STANDARD
TZOFFSETFROM:+0200
TZOFFSETTO:+0100
DTSTART:20201025T010000
TZNAME:CET
END:STANDARD
END:VTIMEZONE
END:VCALENDAR
