BEGIN:VCALENDAR
VERSION:2.0
PRODID:-//Events | FID-Recht//NONSGML Events//EN
CALSCALE:GREGORIAN
X-ORIGINAL-URL:https://events.intrecht.de/termine/
X-WR-CALDESC:Events | FID-Recht - Events
BEGIN:VEVENT
UID:20211104T2215Z-1636064130.5282-EO-4440-1@172.16.200.141
STATUS:CONFIRMED
DTSTAMP:20260422T112246Z
CREATED:20211102T145328Z
LAST-MODIFIED:20211102T145328Z
DTSTART;VALUE=DATE:20211214
DTEND;VALUE=DATE:20211215
SUMMARY: “Paradigms of Social Order“ (with Sergio Dellavalle\, Jochen von B
 ernstorff\, Matthias Goldmann and Dana Schmalz) (Online-Buchvorstellung)
DESCRIPTION: 14.12.2021\, Online https://www.mpil.de/de/pub/aktuelles/veran
 staltungen.cfm?event=calendar.Display&cat=3&iDisplayID=7&event_ID=745&date=
 10/26/2021  
X-ALT-DESC;FMTTYPE=text/html: <p>14.12.2021\, Online</p><p><a href="https:/
 /www.mpil.de/de/pub/aktuelles/veranstaltungen.cfm?event=calendar.Display&ca
 t=3&iDisplayID=7&event_ID=745&date=10/26/2021">https://www.mpil.de/de/pub/a
 ktuelles/veranstaltungen.cfm?event=calendar.Display&cat=3&iDisplayID=7&even
 t_ID=745&date=10/26/2021</a></p><p> </p><p>[av_button label='iCal-Export' l
 ink='./feed/eo-events' link_target='' size='small' position='center' label_
 display='' title_attr='' icon_select='yes' icon='ue85b' font='entypo-fontel
 lo' color='custom' custom_bg='#b5123e' custom_font='#ffffff' av_uid='' id='
 ' custom_class='' admin_preview_bg='']</p>
CATEGORIES:Europäisches / Internationales Recht
LOCATION:Online
GEO:0.000000;0.000000
ORGANIZER;CN="ViFa-Recht":MAILTO:vifa-recht@sbb.spk-berlin.de
URL;VALUE=URI:https://events.intrecht.de/termine/termin/paradigms-of-social
 -order-with-sergio-dellavalle-jochen-von-bernstorff-matthias-goldmann-and-d
 ana-schmalz-online-buchvorstellung/
END:VEVENT
BEGIN:VTIMEZONE
TZID:Europe/Berlin
BEGIN:STANDARD
TZOFFSETFROM:+0200
TZOFFSETTO:+0100
DTSTART:20211031T010000
TZNAME:CET
END:STANDARD
END:VTIMEZONE
END:VCALENDAR
