BEGIN:VCALENDAR
VERSION:2.0
PRODID:-//Events | FID-Recht//NONSGML Events//EN
CALSCALE:GREGORIAN
X-ORIGINAL-URL:https://events.intrecht.de/termine/
X-WR-CALDESC:Events | FID-Recht - Events
BEGIN:VEVENT
UID:20211225T1924Z-1640460290.87-EO-5534-1@172.16.200.141
STATUS:CONFIRMED
DTSTAMP:20260421T184044Z
CREATED:20211216T114132Z
LAST-MODIFIED:20211216T114132Z
DTSTART;VALUE=DATE:20220623
DTEND;VALUE=DATE:20220625
SUMMARY: Pandemics – Liability and Insurance (Tagung)
DESCRIPTION: 23.-24.6.2022\, Wien  (Frist für Einreichungen: 21.1.2022) CAL
 L FOR PAPERS (private-law-theory.org)  
X-ALT-DESC;FMTTYPE=text/html: <p>23.-24.6.2022\, Wien  (Frist für Einreichu
 ngen: 21.1.2022)</p><p><a href="https://private-law-theory.org/wp-content/u
 ploads/2021/08/CALLEALEGA2022.pdf">CALL FOR PAPERS (private-law-theory.org)
 </a></p><p> </p><p>[av_button label='iCal-Export' link='./feed/eo-events' l
 ink_target='' size='small' position='center' label_display='' title_attr=''
  icon_select='yes' icon='ue85b' font='entypo-fontello' color='custom' custo
 m_bg='#b5123e' custom_font='#ffffff' av_uid='' id='' custom_class='' admin_
 preview_bg='']</p>
CATEGORIES:Zivilrecht
LOCATION:Ausland
GEO:0.000000;0.000000
ORGANIZER;CN="ViFa-Recht":MAILTO:vifa-recht@sbb.spk-berlin.de
URL;VALUE=URI:https://events.intrecht.de/termine/termin/pandemics-liability
 -and-insurance-tagung/
END:VEVENT
BEGIN:VTIMEZONE
TZID:Europe/Berlin
BEGIN:DAYLIGHT
TZOFFSETFROM:+0100
TZOFFSETTO:+0200
DTSTART:20220327T010000
TZNAME:CEST
END:DAYLIGHT
END:VTIMEZONE
END:VCALENDAR
