BEGIN:VCALENDAR
VERSION:2.0
PRODID:-//Events | FID-Recht//NONSGML Events//EN
CALSCALE:GREGORIAN
X-ORIGINAL-URL:https://events.intrecht.de/termine/
X-WR-CALDESC:Events | FID-Recht - Events
BEGIN:VEVENT
UID:20200603T1418Z-1591193923.3362-EO-587-1@172.16.200.141
STATUS:CONFIRMED
DTSTAMP:20260422T110759Z
CREATED:20240207T104739Z
LAST-MODIFIED:20240207T104739Z
DTSTART;VALUE=DATE:20240603
DTEND;VALUE=DATE:20240606
SUMMARY: Pacts\, Promises and Protection (Annual Conference of the Refugee 
 Law Initiative (RLI))
DESCRIPTION: 3.-5.6.2024 / London (Anmeldefrist: 27.5.2024) https://rli.sas
 .ac.uk/events/pacts-promises-and-refugee-protection-8th-annual-rli-conferen
 ce
X-ALT-DESC;FMTTYPE=text/html: <p>3.-5.6.2024 / London <strong>(Anmeldefrist
 : 27.5.2024)</strong></p><p><a href="https://rli.sas.ac.uk/events/pacts-pro
 mises-and-refugee-protection-8th-annual-rli-conference">https://rli.sas.ac.
 uk/events/pacts-promises-and-refugee-protection-8th-annual-rli-conference</
 a></p><p>[av_button label='iCal-Export' link='./feed/eo-events' link_target
 ='' size='small' position='center' label_display='' title_attr='' icon_sele
 ct='yes' icon='ue85b' font='entypo-fontello' color='custom' custom_bg='#b51
 23e' custom_font='#ffffff' av_uid='' id='' custom_class='' admin_preview_bg
 ='']</p>
CATEGORIES:Recht interdisziplinär
LOCATION:Ausland
GEO:0.000000;0.000000
ORGANIZER;CN="ViFa-Recht":MAILTO:vifa-recht@sbb.spk-berlin.de
URL;VALUE=URI:https://events.intrecht.de/termine/termin/pacts-promises-and-
 protection-annual-conference-of-the-refugee-law-initiative-rli/
END:VEVENT
BEGIN:VTIMEZONE
TZID:Europe/Berlin
BEGIN:DAYLIGHT
TZOFFSETFROM:+0100
TZOFFSETTO:+0200
DTSTART:20240331T010000
TZNAME:CEST
END:DAYLIGHT
END:VTIMEZONE
END:VCALENDAR
