BEGIN:VCALENDAR
VERSION:2.0
PRODID:-//Events | FID-Recht//NONSGML Events//EN
CALSCALE:GREGORIAN
X-ORIGINAL-URL:https://events.intrecht.de/termine/
X-WR-CALDESC:Events | FID-Recht - Events
BEGIN:VEVENT
UID:20220305T0316Z-1646450163.3311-EO-6211-1@172.16.200.141
STATUS:CONFIRMED
DTSTAMP:20260421T102835Z
CREATED:20220228T111513Z
LAST-MODIFIED:20220228T112322Z
DTSTART;VALUE=DATE:20230526
DTEND;VALUE=DATE:20230527
SUMMARY: Oxford Philosophy\, Law\, and Politics Colloquium (with Jo Wolff a
 nd Jeremy Waldron) (Gespräch)
DESCRIPTION: 26.5.2023\, Oxford Oxford Philosophy\, Law\, and Politics Coll
 oquium | Oxford Law Faculty  
X-ALT-DESC;FMTTYPE=text/html: <p>26.5.2023\, Oxford</p><p><a href="https://
 www.law.ox.ac.uk/research-and-subject-groups/jurisprudence-oxford/PLP-collo
 quium">Oxford Philosophy\, Law\, and Politics Colloquium | Oxford Law Facul
 ty</a></p><p> </p><p>[av_button label='iCal-Export' link='./feed/eo-events'
  link_target='' size='small' position='center' label_display='' title_attr=
 '' icon_select='yes' icon='ue85b' font='entypo-fontello' color='custom' cus
 tom_bg='#b5123e' custom_font='#ffffff' av_uid='' id='' custom_class='' admi
 n_preview_bg='']</p>
CATEGORIES:Recht interdisziplinär
LOCATION:Ausland
GEO:0.000000;0.000000
ORGANIZER;CN="ViFa-Recht":MAILTO:vifa-recht@sbb.spk-berlin.de
URL;VALUE=URI:https://events.intrecht.de/termine/termin/oxford-philosophy-l
 aw-and-politics-colloquium-with-jo-wolff-and-jeremy-waldron-online-gespraec
 h/
END:VEVENT
BEGIN:VTIMEZONE
TZID:Europe/Berlin
BEGIN:DAYLIGHT
TZOFFSETFROM:+0100
TZOFFSETTO:+0200
DTSTART:20230326T010000
TZNAME:CEST
END:DAYLIGHT
END:VTIMEZONE
END:VCALENDAR
