BEGIN:VCALENDAR
VERSION:2.0
PRODID:-//Events | FID-Recht//NONSGML Events//EN
CALSCALE:GREGORIAN
X-ORIGINAL-URL:https://events.intrecht.de/termine/
X-WR-CALDESC:Events | FID-Recht - Events
BEGIN:VEVENT
UID:20211007T1252Z-1633611161.062-EO-4427-1@172.16.200.141
STATUS:CONFIRMED
DTSTAMP:20260421T133417Z
CREATED:20211005T162654Z
LAST-MODIFIED:20211005T162654Z
DTSTART;VALUE=DATE:20220901
DTEND;VALUE=DATE:20220903
SUMMARY: Ownership Regimes in the Iberian World\, 1500-1850 (Workshop)
DESCRIPTION: 1-2.9.2022\, Frankfurt/Main (Frist für Einreichungen: 31.10.20
 21) https://www.lhlt.mpg.de/2660154/notice-21-09-15-cfp-iberian-worlds  
X-ALT-DESC;FMTTYPE=text/html: <p>1-2.9.2022\, Frankfurt/Main (Frist für Ein
 reichungen: 31.10.2021)</p><p><a href="https://www.lhlt.mpg.de/2660154/noti
 ce-21-09-15-cfp-iberian-worlds">https://www.lhlt.mpg.de/2660154/notice-21-0
 9-15-cfp-iberian-worlds</a></p><p> </p><p>[av_button label='iCal-Export' li
 nk='./feed/eo-events' link_target='' size='small' position='center' label_d
 isplay='' title_attr='' icon_select='yes' icon='ue85b' font='entypo-fontell
 o' color='custom' custom_bg='#b5123e' custom_font='#ffffff' av_uid='' id=''
  custom_class='' admin_preview_bg='']</p>
CATEGORIES:Recht interdisziplinär,Zivilrecht
LOCATION:Inland
GEO:0.000000;0.000000
ORGANIZER;CN="ViFa-Recht":MAILTO:vifa-recht@sbb.spk-berlin.de
URL;VALUE=URI:https://events.intrecht.de/termine/termin/ownership-regimes-i
 n-the-iberian-world-1500-1850-workshop/
END:VEVENT
BEGIN:VTIMEZONE
TZID:Europe/Berlin
BEGIN:DAYLIGHT
TZOFFSETFROM:+0100
TZOFFSETTO:+0200
DTSTART:20220327T010000
TZNAME:CEST
END:DAYLIGHT
END:VTIMEZONE
END:VCALENDAR
