BEGIN:VCALENDAR
VERSION:2.0
PRODID:-//Events | FID-Recht//NONSGML Events//EN
CALSCALE:GREGORIAN
X-ORIGINAL-URL:https://events.intrecht.de/termine/
X-WR-CALDESC:Events | FID-Recht - Events
BEGIN:VEVENT
UID:20211007T0610Z-1633587035.8702-EO-4682-1@172.16.200.141
STATUS:CONFIRMED
DTSTAMP:20260421T172250Z
CREATED:20211005T134538Z
LAST-MODIFIED:20211005T134538Z
DTSTART;VALUE=DATE:20211008
DTEND;VALUE=DATE:20211008
SUMMARY: Overshadowed by neighbours? The rule of law in the Czech parliamen
 tary elections (Online-Podiumsdiskussion)
DESCRIPTION: 8.10.2021\, Online Overshadowed by neighbours? The rule of law
  in the Czech parliamentary elections | Democracy Reporting International (
 democracy-reporting.org)  
X-ALT-DESC;FMTTYPE=text/html: <p>8.10.2021\, Online</p><p><a href="https://
 democracy-reporting.org/en/office/EU/events/overshadowed-by-neighbours-the-
 rule-of-law-in-the-czech-parliamentary-elections">Overshadowed by neighbour
 s? The rule of law in the Czech parliamentary elections | Democracy Reporti
 ng International (democracy-reporting.org)</a></p><p> </p><p>[av_button lab
 el='iCal-Export' link='./feed/eo-events' link_target='' size='small' positi
 on='center' label_display='' title_attr='' icon_select='yes' icon='ue85b' f
 ont='entypo-fontello' color='custom' custom_bg='#b5123e' custom_font='#ffff
 ff' av_uid='' id='' custom_class='' admin_preview_bg='']</p>
CATEGORIES:Öffentliches Recht
LOCATION:Online
GEO:0.000000;0.000000
ORGANIZER;CN="ViFa-Recht":MAILTO:vifa-recht@sbb.spk-berlin.de
URL;VALUE=URI:https://events.intrecht.de/termine/termin/overshadowed-by-nei
 ghbours-the-rule-of-law-in-the-czech-parliamentary-elections-online-podiums
 diskussion/
END:VEVENT
BEGIN:VTIMEZONE
TZID:Europe/Berlin
BEGIN:DAYLIGHT
TZOFFSETFROM:+0100
TZOFFSETTO:+0200
DTSTART:20210328T010000
TZNAME:CEST
END:DAYLIGHT
END:VTIMEZONE
END:VCALENDAR
