BEGIN:VCALENDAR
VERSION:2.0
PRODID:-//Events | FID-Recht//NONSGML Events//EN
CALSCALE:GREGORIAN
X-ORIGINAL-URL:https://events.intrecht.de/termine/
X-WR-CALDESC:Events | FID-Recht - Events
BEGIN:VEVENT
UID:20200603T1418Z-1591193923.3362-EO-587-1@172.16.200.141
STATUS:CONFIRMED
DTSTAMP:20260422T211712Z
CREATED:20241127T081400Z
LAST-MODIFIED:20241127T081400Z
DTSTART;VALUE=DATE:20241203
DTEND;VALUE=DATE:20241204
SUMMARY: Overriding Mandatory Rules in Family Matters and Personal Status\,
  Are Belgians the Only Ones? (Virtual Workshop / Current Research in Privat
 e International Law)
DESCRIPTION: 3.12.2024 / Online https://events.mpipriv.de/b?p=private_inter
 national_law_with_stephanie_francq
X-ALT-DESC;FMTTYPE=text/html: <p>3.12.2024 / Online</p><p><a href="https://
 events.mpipriv.de/b?p=private_international_law_with_stephanie_francq">http
 s://events.mpipriv.de/b?p=private_international_law_with_stephanie_francq</
 a></p><p>[av_button label='iCal-Export' link='./feed/eo-events' link_target
 ='' size='small' position='center' label_display='' title_attr='' icon_sele
 ct='yes' icon='ue85b' font='entypo-fontello' color='custom' custom_bg='#b51
 23e' custom_font='#ffffff' av_uid='' id='' custom_class='' admin_preview_bg
 ='']</p>
CATEGORIES:Zivilrecht
LOCATION:Online
GEO:0.000000;0.000000
ORGANIZER;CN="ViFa-Recht":MAILTO:vifa-recht@sbb.spk-berlin.de
URL;VALUE=URI:https://events.intrecht.de/termine/termin/overriding-mandator
 y-rules-in-family-matters-and-personal-status-are-belgians-the-only-ones-vi
 rtual-workshop-current-research-in-private-international-law/
END:VEVENT
BEGIN:VTIMEZONE
TZID:Europe/Berlin
BEGIN:STANDARD
TZOFFSETFROM:+0200
TZOFFSETTO:+0100
DTSTART:20241027T010000
TZNAME:CET
END:STANDARD
END:VTIMEZONE
END:VCALENDAR
