BEGIN:VCALENDAR
VERSION:2.0
PRODID:-//Events | FID-Recht//NONSGML Events//EN
CALSCALE:GREGORIAN
X-ORIGINAL-URL:https://events.intrecht.de/termine/
X-WR-CALDESC:Events | FID-Recht - Events
BEGIN:VEVENT
UID:20220627T0227Z-1656296851.9079-EO-4310-1@172.16.200.151
STATUS:CONFIRMED
DTSTAMP:20260421T165724Z
CREATED:20220623T171646Z
LAST-MODIFIED:20220623T171646Z
DTSTART;TZID=Europe/Berlin:20220713T190000
DTEND;TZID=Europe/Berlin:20220713T190000
SUMMARY: Otto Liebmann zum 80. Todestag (Gespräch)
DESCRIPTION: 13.7.2022\, Hamburg Otto Liebmann zum 80. Todestag (soziopolis
 .de)  
X-ALT-DESC;FMTTYPE=text/html: <p>13.7.2022\, Hamburg</p><p><a href="https:/
 /www.soziopolis.de/veranstaltungen/diskussion/otto-liebmann-zum-80-todestag
 .html">Otto Liebmann zum 80. Todestag (soziopolis.de)</a></p><p> </p><p>[av
 _button label='iCal-Export' link='./feed/eo-events' link_target='' size='sm
 all' position='center' label_display='' title_attr='' icon_select='yes' ico
 n='ue85b' font='entypo-fontello' color='custom' custom_bg='#b5123e' custom_
 font='#ffffff' av_uid='' id='' custom_class='' admin_preview_bg='']</p>
CATEGORIES:Recht interdisziplinär
LOCATION:Inland
GEO:0.000000;0.000000
ORGANIZER;CN="ViFa-Recht":MAILTO:vifa-recht@sbb.spk-berlin.de
URL;VALUE=URI:https://events.intrecht.de/termine/termin/otto-liebmann-zum-8
 0-todestag-gespraech/
END:VEVENT
BEGIN:VTIMEZONE
TZID:Europe/Berlin
BEGIN:DAYLIGHT
TZOFFSETFROM:+0100
TZOFFSETTO:+0200
DTSTART:20220327T010000
TZNAME:CEST
END:DAYLIGHT
END:VTIMEZONE
END:VCALENDAR
