BEGIN:VCALENDAR
VERSION:2.0
PRODID:-//Events | FID-Recht//NONSGML Events//EN
CALSCALE:GREGORIAN
X-ORIGINAL-URL:https://events.intrecht.de/termine/
X-WR-CALDESC:Events | FID-Recht - Events
BEGIN:VEVENT
UID:20201112T2216Z-1605219363.3129-EO-1910-1@172.16.200.141
STATUS:CONFIRMED
DTSTAMP:20260421T203147Z
CREATED:20201020T130200Z
LAST-MODIFIED:20201020T130358Z
DTSTART;VALUE=DATE:20201103
DTEND;VALUE=DATE:20201104
SUMMARY: Ostdeutsche Transformationen. Eine ungleichheitssoziologische Pers
 pektive (mit Steffen Mau) (Online-Vortrag)
DESCRIPTION: 3.11.2020\, Online https://www.rewi.hu-berlin.de/de/lf/oe/lsi/
 termine/steffen-mau-ostdeutsche-transformationen-eine-ungleichheitssoziolog
 ische-perspektive  
X-ALT-DESC;FMTTYPE=text/html: <p>3.11.2020\, Online</p><p><a href="https://
 www.rewi.hu-berlin.de/de/lf/oe/lsi/termine/steffen-mau-ostdeutsche-transfor
 mationen-eine-ungleichheitssoziologische-perspektive">https://www.rewi.hu-b
 erlin.de/de/lf/oe/lsi/termine/steffen-mau-ostdeutsche-transformationen-eine
 -ungleichheitssoziologische-perspektive</a></p><p> </p><p>[av_button label=
 'iCal-Export' link='./feed/eo-events' link_target='' size='small' position=
 'center' label_display='' title_attr='' icon_select='yes' icon='ue85b' font
 ='entypo-fontello' color='custom' custom_bg='#b5123e' custom_font='#ffffff'
  av_uid='' id='' custom_class='' admin_preview_bg='']</p>
CATEGORIES:Recht interdisziplinär
LOCATION:Online
GEO:0.000000;0.000000
ORGANIZER;CN="ViFa-Recht":MAILTO:vifa-recht@sbb.spk-berlin.de
URL;VALUE=URI:https://events.intrecht.de/termine/termin/ostdeutsche-transfo
 rmationen-eine-ungleichheitssoziologische-perspektive-mit-steffen-mau-onlin
 e-vortrag/
END:VEVENT
BEGIN:VTIMEZONE
TZID:Europe/Berlin
BEGIN:STANDARD
TZOFFSETFROM:+0200
TZOFFSETTO:+0100
DTSTART:20201025T010000
TZNAME:CET
END:STANDARD
END:VTIMEZONE
END:VCALENDAR
