BEGIN:VCALENDAR
VERSION:2.0
PRODID:-//Events | FID-Recht//NONSGML Events//EN
CALSCALE:GREGORIAN
X-ORIGINAL-URL:https://events.intrecht.de/termine/
X-WR-CALDESC:Events | FID-Recht - Events
BEGIN:VEVENT
UID:20211225T0521Z-1640409702.6952-EO-4238-1@172.16.200.141
STATUS:CONFIRMED
DTSTAMP:20260421T133929Z
CREATED:20220729T172548Z
LAST-MODIFIED:20220729T172548Z
DTSTART;VALUE=DATE:20230207
DTEND;VALUE=DATE:20230207
SUMMARY: Organic social ethics – Universalism without egalitarianism (Max P
 lanck Lecture in Legal History and Legal Theory with Hans Joas) (Vortrag)
DESCRIPTION: 7.2.2023\, Frankfurt (Main) Max Planck Lecture in Legal Histor
 y and Legal Theory | Max Planck Institute for Legal History and Legal Theor
 y (mpg.de)  
X-ALT-DESC;FMTTYPE=text/html: <p>7.2.2023\, Frankfurt (Main)</p><p><a href=
 "https://www.lhlt.mpg.de/events/29232/2078412">Max Planck Lecture in Legal 
 History and Legal Theory | Max Planck Institute for Legal History and Legal
  Theory (mpg.de)</a></p><p> </p><p>[av_button label='iCal-Export' link='./f
 eed/eo-events' link_target='' size='small' position='center' label_display=
 '' title_attr='' icon_select='yes' icon='ue85b' font='entypo-fontello' colo
 r='custom' custom_bg='#b5123e' custom_font='#ffffff' av_uid='' id='' custom
 _class='' admin_preview_bg='']</p>
CATEGORIES:Recht interdisziplinär
LOCATION:Inland
GEO:0.000000;0.000000
ORGANIZER;CN="ViFa-Recht":MAILTO:vifa-recht@sbb.spk-berlin.de
URL;VALUE=URI:https://events.intrecht.de/termine/termin/organic-social-ethi
 cs-universalism-without-egalitarianism-max-planck-lecture-in-legal-history-
 and-legal-theory-with-hans-joas-vortrag-2/
END:VEVENT
BEGIN:VTIMEZONE
TZID:Europe/Berlin
BEGIN:STANDARD
TZOFFSETFROM:+0200
TZOFFSETTO:+0100
DTSTART:20221030T010000
TZNAME:CET
END:STANDARD
END:VTIMEZONE
END:VCALENDAR
