BEGIN:VCALENDAR
VERSION:2.0
PRODID:-//Events | FID-Recht//NONSGML Events//EN
CALSCALE:GREGORIAN
X-ORIGINAL-URL:https://events.intrecht.de/termine/
X-WR-CALDESC:Events | FID-Recht - Events
BEGIN:VEVENT
UID:20200603T1418Z-1591193923.3362-EO-587-1@172.16.200.141
STATUS:CONFIRMED
DTSTAMP:20260425T164734Z
CREATED:20230221T122918Z
LAST-MODIFIED:20230221T122918Z
DTSTART;VALUE=DATE:20230703
DTEND;VALUE=DATE:20230707
SUMMARY: Oral History meets European Studies. Sources\, tools and methods i
 n the digital age (Summer School)
DESCRIPTION: 3.-6.7.2023 / Luxemburg https://www.lhlt.mpg.de/3238144/CfP-In
 ternational-Summer-School_Luxembourg_docx.pdf
X-ALT-DESC;FMTTYPE=text/html: <p>3.-6.7.2023 / Luxemburg</p><p><a href="htt
 ps://www.lhlt.mpg.de/3238144/CfP-International-Summer-School_Luxembourg_doc
 x.pdf">https://www.lhlt.mpg.de/3238144/CfP-International-Summer-School_Luxe
 mbourg_docx.pdf</a></p><p>[av_button label='iCal-Export' link='./feed/eo-ev
 ents' link_target='' size='small' position='center' label_display='' title_
 attr='' icon_select='yes' icon='ue85b' font='entypo-fontello' color='custom
 ' custom_bg='#b5123e' custom_font='#ffffff' av_uid='' id='' custom_class=''
  admin_preview_bg='']</p>
CATEGORIES:Recht interdisziplinär
LOCATION:Ausland
GEO:0.000000;0.000000
ORGANIZER;CN="ViFa-Recht":MAILTO:vifa-recht@sbb.spk-berlin.de
URL;VALUE=URI:https://events.intrecht.de/termine/termin/oral-history-meets-
 european-studies-sources-tools-and-methods-in-the-digital-age-summer-school
 /
END:VEVENT
BEGIN:VTIMEZONE
TZID:Europe/Berlin
BEGIN:DAYLIGHT
TZOFFSETFROM:+0100
TZOFFSETTO:+0200
DTSTART:20230326T010000
TZNAME:CEST
END:DAYLIGHT
END:VTIMEZONE
END:VCALENDAR
