BEGIN:VCALENDAR
VERSION:2.0
PRODID:-//Events | FID-Recht//NONSGML Events//EN
CALSCALE:GREGORIAN
X-ORIGINAL-URL:https://events.intrecht.de/termine/
X-WR-CALDESC:Events | FID-Recht - Events
BEGIN:VEVENT
UID:20200602T0945Z-1591091115.9737-EO-599-1@172.16.200.141
STATUS:CONFIRMED
DTSTAMP:20260423T003341Z
CREATED:20260417T075239Z
LAST-MODIFIED:20260417T075239Z
DTSTART;VALUE=DATE:20260428
DTEND;VALUE=DATE:20260429
SUMMARY: Open Adoption: Problems\, Opportunities and Legal Perspectives (Hy
 brid Event / Family Law At Four)
DESCRIPTION: 28.4.2026 / Online und Hamburg https://events.mpipriv.de/b?p=f
 amily_law_at_four_with_sara_tina
X-ALT-DESC;FMTTYPE=text/html: <p>28.4.2026 / Online und Hamburg</p><p><a hr
 ef="https://events.mpipriv.de/b?p=family_law_at_four_with_sara_tina">https:
 //events.mpipriv.de/b?p=family_law_at_four_with_sara_tina</a></p><p>[av_but
 ton label='iCal-Export' link='./feed/eo-events' link_target='' size='small'
  position='center' label_display='' title_attr='' icon_select='yes' icon='u
 e85b' font='entypo-fontello' color='custom' custom_bg='#b5123e' custom_font
 ='#ffffff' av_uid='' id='' custom_class='' admin_preview_bg='']</p>
CATEGORIES:Zivilrecht
LOCATION:Hybrid
GEO:0.000000;0.000000
ORGANIZER;CN="ViFa-Recht":MAILTO:vifa-recht@sbb.spk-berlin.de
URL;VALUE=URI:https://events.intrecht.de/termine/termin/open-adoption-probl
 ems-opportunities-and-legal-perspectives-hybrid-event-family-law-at-four/
END:VEVENT
BEGIN:VTIMEZONE
TZID:Europe/Berlin
BEGIN:DAYLIGHT
TZOFFSETFROM:+0100
TZOFFSETTO:+0200
DTSTART:20260329T010000
TZNAME:CEST
END:DAYLIGHT
END:VTIMEZONE
END:VCALENDAR
