BEGIN:VCALENDAR
VERSION:2.0
PRODID:-//Events | FID-Recht//NONSGML Events//EN
CALSCALE:GREGORIAN
X-ORIGINAL-URL:https://events.intrecht.de/termine/
X-WR-CALDESC:Events | FID-Recht - Events
BEGIN:VEVENT
UID:20210814T2310Z-1628982611.6185-EO-4411-1@172.16.200.141
STATUS:CONFIRMED
DTSTAMP:20260422T111915Z
CREATED:20210812T125624Z
LAST-MODIFIED:20210812T125624Z
DTSTART;VALUE=DATE:20210822
DTEND;VALUE=DATE:20210822
SUMMARY: Ontological and Normative Collisions – Struggles over Nature’s Rig
 hts (Online-Workshop) (CfP)
DESCRIPTION: 27.-28.10.2021\, Hamburg/Online (Frist für Einreichungen: 22.8
 .2021) Ontological and Normative Collisions: Struggles over Nature’s Rights
  | Völkerrechtsblog (voelkerrechtsblog.org)  
X-ALT-DESC;FMTTYPE=text/html: <p>27.-28.10.2021\, Hamburg/Online (Frist für
  Einreichungen: 22.8.2021)</p><p><a href="https://voelkerrechtsblog.org/de/
 calls-for-papers/ontological-and-normative-collisions-struggles-over-nature
 s-rights/">Ontological and Normative Collisions: Struggles over Nature’s Ri
 ghts | Völkerrechtsblog (voelkerrechtsblog.org)</a></p><p> </p><p>[av_butto
 n label='iCal-Export' link='./feed/eo-events' link_target='' size='small' p
 osition='center' label_display='' title_attr='' icon_select='yes' icon='ue8
 5b' font='entypo-fontello' color='custom' custom_bg='#b5123e' custom_font='
 #ffffff' av_uid='' id='' custom_class='' admin_preview_bg='']</p>
CATEGORIES:Europäisches / Internationales Recht,Öffentliches Recht,Recht interdisziplinär
LOCATION:Online
GEO:0.000000;0.000000
ORGANIZER;CN="ViFa-Recht":MAILTO:vifa-recht@sbb.spk-berlin.de
URL;VALUE=URI:https://events.intrecht.de/termine/termin/ontological-and-nor
 mative-collisions-struggles-over-natures-rights-online-workshop-cfp/
END:VEVENT
BEGIN:VTIMEZONE
TZID:Europe/Berlin
BEGIN:DAYLIGHT
TZOFFSETFROM:+0100
TZOFFSETTO:+0200
DTSTART:20210328T010000
TZNAME:CEST
END:DAYLIGHT
END:VTIMEZONE
END:VCALENDAR
