BEGIN:VCALENDAR
VERSION:2.0
PRODID:-//Events | FID-Recht//NONSGML Events//EN
CALSCALE:GREGORIAN
X-ORIGINAL-URL:https://events.intrecht.de/termine/
X-WR-CALDESC:Events | FID-Recht - Events
BEGIN:VEVENT
UID:20230110T0015Z-1673309702.4869-EO-7928-1@172.16.200.151
STATUS:CONFIRMED
DTSTAMP:20260421T115516Z
CREATED:20230105T120012Z
LAST-MODIFIED:20230105T120012Z
DTSTART;VALUE=DATE:20230112
DTEND;VALUE=DATE:20230114
SUMMARY: Online Workshop Constitutionalism Beyond the State and the Role of
  Domestic Constitutional Courts: Solange – 50th Anniversary
DESCRIPTION: 12.-13.1.2023 / Online https://voelkerrechtsblog.org/events/so
 lange-50th-anniversary/  
X-ALT-DESC;FMTTYPE=text/html: <p>12.-13.1.2023 / Online</p><p><a href="http
 s://voelkerrechtsblog.org/events/solange-50th-anniversary/">https://voelker
 rechtsblog.org/events/solange-50th-anniversary/</a></p><p> </p><p>[av_butto
 n label='iCal-Export' link='./feed/eo-events' link_target='' size='small' p
 osition='center' label_display='' title_attr='' icon_select='yes' icon='ue8
 5b' font='entypo-fontello' color='custom' custom_bg='#b5123e' custom_font='
 #ffffff' av_uid='' id='' custom_class='' admin_preview_bg='']</p>
CATEGORIES:Öffentliches Recht
LOCATION:Online
GEO:0.000000;0.000000
ORGANIZER;CN="ViFa-Recht":MAILTO:vifa-recht@sbb.spk-berlin.de
URL;VALUE=URI:https://events.intrecht.de/termine/termin/online-workshop-con
 stitutionalism-beyond-the-state-and-the-role-of-domestic-constitutional-cou
 rts-solange-50th-anniversary/
END:VEVENT
BEGIN:VTIMEZONE
TZID:Europe/Berlin
BEGIN:STANDARD
TZOFFSETFROM:+0200
TZOFFSETTO:+0100
DTSTART:20221030T010000
TZNAME:CET
END:STANDARD
END:VTIMEZONE
END:VCALENDAR
