BEGIN:VCALENDAR
VERSION:2.0
PRODID:-//Events | FID-Recht//NONSGML Events//EN
CALSCALE:GREGORIAN
X-ORIGINAL-URL:https://events.intrecht.de/termine/
X-WR-CALDESC:Events | FID-Recht - Events
BEGIN:VEVENT
UID:20201013T1408Z-1602598087.7419-EO-1838-1@172.16.200.141
STATUS:CONFIRMED
DTSTAMP:20260421T115620Z
CREATED:20201012T145925Z
LAST-MODIFIED:20201012T145925Z
DTSTART;VALUE=DATE:20201012
DTEND;VALUE=DATE:20201012
SUMMARY: Online-Workshop: Celebrating the ‘Historical Turn’: International 
 Law in Global Histories (29TH Annual SLSLS/BIICL Workshop on Theory & Inter
 national Law) (Call for Papers)
DESCRIPTION: 25.11.2020\, Online (Frist für Einreichungen: 12.10.2020) http
 s://www.biicl.org/documents/10358_cfp_histories_of_international_law_v5_rev
 ised.pdf    
X-ALT-DESC;FMTTYPE=text/html: <p>25.11.2020\, Online (Frist für Einreichung
 en: 12.10.2020)</p><p><a href="https://www.biicl.org/documents/10358_cfp_hi
 stories_of_international_law_v5_revised.pdf">https://www.biicl.org/document
 s/10358_cfp_histories_of_international_law_v5_revised.pdf</a></p><p> </p><p
 > </p><p>[av_button label='iCal-Export' link='./feed/eo-events' link_target
 ='' size='small' position='center' label_display='' title_attr='' icon_sele
 ct='yes' icon='ue85b' font='entypo-fontello' color='custom' custom_bg='#b51
 23e' custom_font='#ffffff' av_uid='' id='' custom_class='' admin_preview_bg
 ='']</p>
CATEGORIES:Europäisches / Internationales Recht,Recht interdisziplinär
LOCATION:Online
GEO:0.000000;0.000000
ORGANIZER;CN="ViFa-Recht":MAILTO:vifa-recht@sbb.spk-berlin.de
URL;VALUE=URI:https://events.intrecht.de/termine/termin/online-workshop-cel
 ebrating-the-historical-turn-international-law-in-global-histories-29th-ann
 ual-slsls-biicl-workshop-on-theory-international-law-call-for-papers/
END:VEVENT
BEGIN:VTIMEZONE
TZID:Europe/Berlin
BEGIN:DAYLIGHT
TZOFFSETFROM:+0100
TZOFFSETTO:+0200
DTSTART:20200329T010000
TZNAME:CEST
END:DAYLIGHT
END:VTIMEZONE
END:VCALENDAR
