BEGIN:VCALENDAR
VERSION:2.0
PRODID:-//Events | FID-Recht//NONSGML Events//EN
CALSCALE:GREGORIAN
X-ORIGINAL-URL:https://events.intrecht.de/termine/
X-WR-CALDESC:Events | FID-Recht - Events
BEGIN:VEVENT
UID:20200603T1418Z-1591193923.3362-EO-587-1@172.16.200.141
STATUS:CONFIRMED
DTSTAMP:20260425T134102Z
CREATED:20230423T154859Z
LAST-MODIFIED:20230423T154859Z
DTSTART;VALUE=DATE:20230525
DTEND;VALUE=DATE:20230526
SUMMARY: Online-Vortragsreihe Sicher leben in der Stadt der Zukunft: Smart 
 Cities\, Safe Cities: Ausbau von Sicherheitstechnologien und öffentliche Ak
 zeptanz in China
DESCRIPTION: 25.5.2023 / Online https://csl.mpg.de/kolloqu-sicher-leben-sta
 dt-der-zukunft-25mai23.html
X-ALT-DESC;FMTTYPE=text/html: <p>25.5.2023 / Online</p><p><a href="https://
 csl.mpg.de/kolloqu-sicher-leben-stadt-der-zukunft-25mai23.html">https://csl
 .mpg.de/kolloqu-sicher-leben-stadt-der-zukunft-25mai23.html</a></p><p>[av_b
 utton label='iCal-Export' link='./feed/eo-events' link_target='' size='smal
 l' position='center' label_display='' title_attr='' icon_select='yes' icon=
 'ue85b' font='entypo-fontello' color='custom' custom_bg='#b5123e' custom_fo
 nt='#ffffff' av_uid='' id='' custom_class='' admin_preview_bg='']</p>
CATEGORIES:Recht interdisziplinär
LOCATION:Online
GEO:0.000000;0.000000
ORGANIZER;CN="ViFa-Recht":MAILTO:vifa-recht@sbb.spk-berlin.de
URL;VALUE=URI:https://events.intrecht.de/termine/termin/online-vortragsreih
 e-sicher-leben-in-der-stadt-der-zukunft-smart-cities-safe-cities-ausbau-von
 -sicherheitstechnologien-und-oeffentliche-akzeptanz-in-china/
END:VEVENT
BEGIN:VTIMEZONE
TZID:Europe/Berlin
BEGIN:DAYLIGHT
TZOFFSETFROM:+0100
TZOFFSETTO:+0200
DTSTART:20230326T010000
TZNAME:CEST
END:DAYLIGHT
END:VTIMEZONE
END:VCALENDAR
