BEGIN:VCALENDAR
VERSION:2.0
PRODID:-//Events | FID-Recht//NONSGML Events//EN
CALSCALE:GREGORIAN
X-ORIGINAL-URL:https://events.intrecht.de/termine/
X-WR-CALDESC:Events | FID-Recht - Events
BEGIN:VEVENT
UID:20221031T2303Z-1667257430.002-EO-6853-1@172.16.200.151
STATUS:CONFIRMED
DTSTAMP:20260421T133840Z
CREATED:20221031T134014Z
LAST-MODIFIED:20221031T134014Z
DTSTART;VALUE=DATE:20221108
DTEND;VALUE=DATE:20221109
SUMMARY: Online-Vortragsreihe „Akteure und soziale Kontexte rechter Gewalt“
 - Lone Acting. Über die soziale Einbettung von „Einzeltätern“
DESCRIPTION: 8.11.2022 / Online via Zoom https://www.normativeorders.net/de
 /veranstaltungen/alleveranstaltungen/8619-8-november-2022-18-uhr  
X-ALT-DESC;FMTTYPE=text/html: <p>8.11.2022 / Online via Zoom</p><p><a href=
 "https://www.normativeorders.net/de/veranstaltungen/alleveranstaltungen/861
 9-8-november-2022-18-uhr">https://www.normativeorders.net/de/veranstaltunge
 n/alleveranstaltungen/8619-8-november-2022-18-uhr</a></p><p> </p><p>[av_but
 ton label='iCal-Export' link='./feed/eo-events' link_target='' size='small'
  position='center' label_display='' title_attr='' icon_select='yes' icon='u
 e85b' font='entypo-fontello' color='custom' custom_bg='#b5123e' custom_font
 ='#ffffff' av_uid='' id='' custom_class='' admin_preview_bg='']</p>
CATEGORIES:Recht interdisziplinär
LOCATION:Online
GEO:0.000000;0.000000
ORGANIZER;CN="ViFa-Recht":MAILTO:vifa-recht@sbb.spk-berlin.de
URL;VALUE=URI:https://events.intrecht.de/termine/termin/online-vortragsreih
 e-akteure-und-soziale-kontexte-rechter-gewalt-lone-acting-ueber-die-soziale
 -einbettung-von-einzeltaetern/
END:VEVENT
BEGIN:VTIMEZONE
TZID:Europe/Berlin
BEGIN:STANDARD
TZOFFSETFROM:+0200
TZOFFSETTO:+0100
DTSTART:20221030T010000
TZNAME:CET
END:STANDARD
END:VTIMEZONE
END:VCALENDAR
