BEGIN:VCALENDAR
VERSION:2.0
PRODID:-//Events | FID-Recht//NONSGML Events//EN
CALSCALE:GREGORIAN
X-ORIGINAL-URL:https://events.intrecht.de/termine/
X-WR-CALDESC:Events | FID-Recht - Events
BEGIN:VEVENT
UID:20200702T2140Z-1593726038.9575-EO-1050-1@172.16.200.141
STATUS:CONFIRMED
DTSTAMP:20260422T194239Z
CREATED:20200623T114542Z
LAST-MODIFIED:20200623T114628Z
DTSTART;VALUE=DATE:20200702
DTEND;VALUE=DATE:20200703
SUMMARY: Transformaciones jurídicas e identidades políticas de indios y esc
 lavos durante la era de las revoluciones (Online-Seminar)
DESCRIPTION: 2.7.2020\, Online https://www.rg.mpg.de/2263382/event-20-06-16
 -seminar-on-legal-history-in-the-iberian-worlds.html  
X-ALT-DESC;FMTTYPE=text/html: <p>2.7.2020\, Online</p><p><a href="https://w
 ww.rg.mpg.de/2263382/event-20-06-16-seminar-on-legal-history-in-the-iberian
 -worlds.html">https://www.rg.mpg.de/2263382/event-20-06-16-seminar-on-legal
 -history-in-the-iberian-worlds.html</a></p><p> </p><p>[av_button label='iCa
 l-Export' link='./feed/eo-events' link_target='' size='small' position='cen
 ter' label_display='' title_attr='' icon_select='yes' icon='ue85b' font='en
 typo-fontello' color='custom' custom_bg='#b5123e' custom_font='#ffffff' av_
 uid='' id='' custom_class='' admin_preview_bg='']</p>
CATEGORIES:Recht interdisziplinär
LOCATION:Online
GEO:0.000000;0.000000
ORGANIZER;CN="ViFa-Recht":MAILTO:vifa-recht@sbb.spk-berlin.de
URL;VALUE=URI:https://events.intrecht.de/termine/termin/online-seminar-tran
 sformaciones-juridicas-e-identidades-politicas-de-indios-y-esclavos-durante
 -la-era-de-las-revoluciones/
END:VEVENT
BEGIN:VTIMEZONE
TZID:Europe/Berlin
BEGIN:DAYLIGHT
TZOFFSETFROM:+0100
TZOFFSETTO:+0200
DTSTART:20200329T010000
TZNAME:CEST
END:DAYLIGHT
END:VTIMEZONE
END:VCALENDAR
