BEGIN:VCALENDAR
VERSION:2.0
PRODID:-//Events | FID-Recht//NONSGML Events//EN
CALSCALE:GREGORIAN
X-ORIGINAL-URL:https://events.intrecht.de/termine/
X-WR-CALDESC:Events | FID-Recht - Events
BEGIN:VEVENT
UID:20200616T2046Z-1592340363.5203-EO-719-1@172.16.200.141
STATUS:CONFIRMED
DTSTAMP:20260420T111628Z
CREATED:20200602T184122Z
LAST-MODIFIED:20200602T184614Z
DTSTART;VALUE=DATE:20200613
DTEND;VALUE=DATE:20200615
SUMMARY: Entrechtete Körper – Vergleichen\, Normieren\, Urteilen\, Leben: 1
 450-1850 (Konferenz)
DESCRIPTION: 13.-14.6.2020\, Bielefeld / Online https://www.hsozkult.de/eve
 nt/id/termine-42969?title=entrechtete-koerper-vergleichen-normieren-urteile
 n-leben-1450-1850&recno=3&q=&sort=&fq=&total=851  
X-ALT-DESC;FMTTYPE=text/html: <p>13.-14.6.2020\, Bielefeld / Online</p><p><
 a href="https://www.hsozkult.de/event/id/termine-42969?title=entrechtete-ko
 erper-vergleichen-normieren-urteilen-leben-1450-1850&recno=3&q=&sort=&fq=&t
 otal=851">https://www.hsozkult.de/event/id/termine-42969?title=entrechtete-
 koerper-vergleichen-normieren-urteilen-leben-1450-1850&recno=3&q=&sort=&fq=
 &total=851</a></p><p> </p><p>[av_button label='iCal-Export' link='./feed/eo
 -events' link_target='' size='small' position='center' label_display='' tit
 le_attr='' icon_select='yes' icon='ue85b' font='entypo-fontello' color='cus
 tom' custom_bg='#b5123e' custom_font='#ffffff' av_uid='' id='' custom_class
 ='' admin_preview_bg='']</p>
CATEGORIES:Recht interdisziplinär
LOCATION:Online
GEO:0.000000;0.000000
ORGANIZER;CN="ViFa-Recht":MAILTO:vifa-recht@sbb.spk-berlin.de
URL;VALUE=URI:https://events.intrecht.de/termine/termin/online-konferenz-en
 trechtete-koerper-vergleichen-normieren-urteilen-leben-1450-1850/
END:VEVENT
BEGIN:VTIMEZONE
TZID:Europe/Berlin
BEGIN:DAYLIGHT
TZOFFSETFROM:+0100
TZOFFSETTO:+0200
DTSTART:20200329T010000
TZNAME:CEST
END:DAYLIGHT
END:VTIMEZONE
END:VCALENDAR
