BEGIN:VCALENDAR
VERSION:2.0
PRODID:-//Events | FID-Recht//NONSGML Events//EN
CALSCALE:GREGORIAN
X-ORIGINAL-URL:https://events.intrecht.de/termine/
X-WR-CALDESC:Events | FID-Recht - Events
BEGIN:VEVENT
UID:20200623T1358Z-1592920681.2649-EO-969-1@172.16.200.141
STATUS:CONFIRMED
DTSTAMP:20260422T160935Z
CREATED:20200819T125018Z
LAST-MODIFIED:20200819T125355Z
DTSTART;VALUE=DATE:20200918
DTEND;VALUE=DATE:20200919
SUMMARY: Online Conference: Bridging the gap between new technologies\, hea
 lth research and the protection of personal data: GDPR impact conference
DESCRIPTION: 18.9.2020\, Online https://id.univie.ac.at/aktivitaeten/tvb-cl
 oud-conference/  
X-ALT-DESC;FMTTYPE=text/html: <p>18.9.2020\, Online</p><p><a href="https://
 id.univie.ac.at/aktivitaeten/tvb-cloud-conference/">https://id.univie.ac.at
 /aktivitaeten/tvb-cloud-conference/</a></p><p> </p><p>[av_button label='iCa
 l-Export' link='./feed/eo-events' link_target='' size='small' position='cen
 ter' label_display='' title_attr='' icon_select='yes' icon='ue85b' font='en
 typo-fontello' color='custom' custom_bg='#b5123e' custom_font='#ffffff' av_
 uid='' id='' custom_class='' admin_preview_bg='']</p>
CATEGORIES:Recht interdisziplinär
LOCATION:Online
GEO:0.000000;0.000000
ORGANIZER;CN="ViFa-Recht":MAILTO:vifa-recht@sbb.spk-berlin.de
URL;VALUE=URI:https://events.intrecht.de/termine/termin/online-conference-b
 ridging-the-gap-between-new-technologies-health-research-and-the-protection
 -of-personal-data-gdpr-impact-conferenc/
END:VEVENT
BEGIN:VTIMEZONE
TZID:Europe/Berlin
BEGIN:DAYLIGHT
TZOFFSETFROM:+0100
TZOFFSETTO:+0200
DTSTART:20200329T010000
TZNAME:CEST
END:DAYLIGHT
END:VTIMEZONE
END:VCALENDAR
