BEGIN:VCALENDAR
VERSION:2.0
PRODID:-//Events | FID-Recht//NONSGML Events//EN
CALSCALE:GREGORIAN
X-ORIGINAL-URL:https://events.intrecht.de/termine/
X-WR-CALDESC:Events | FID-Recht - Events
BEGIN:VEVENT
UID:20200817T0305Z-1597633559.9436-EO-1279-1@172.16.200.141
STATUS:CONFIRMED
DTSTAMP:20260421T151509Z
CREATED:20200730T184157Z
LAST-MODIFIED:20200730T184601Z
DTSTART;VALUE=DATE:20200731
DTEND;VALUE=DATE:20200801
SUMMARY: One Empire\, Many Colonies\, Similar or Different Histories? – 39t
 h Annual Conference of the Australian and New Zealand Law and History Socie
 ty (Call for Papers)
DESCRIPTION: 9.-12.12.2020\, Auckland/Online (Frist für Einreichungen: 31.7
 .2020) http://legalhistoryblog.blogspot.com/2020/06/cfp-anzlhs-2020-revised
 .html?utm_source=dlvr.it&utm_medium=twitter  
X-ALT-DESC;FMTTYPE=text/html: <p>9.-12.12.2020\, Auckland/Online (Frist für
  Einreichungen: 31.7.2020)</p><p><a href="http://legalhistoryblog.blogspot.
 com/2020/06/cfp-anzlhs-2020-revised.html?utm_source=dlvr.it&utm_medium=twit
 ter">http://legalhistoryblog.blogspot.com/2020/06/cfp-anzlhs-2020-revised.h
 tml?utm_source=dlvr.it&utm_medium=twitter</a></p><p> </p><p>[av_button labe
 l='iCal-Export' link='./feed/eo-events' link_target='' size='small' positio
 n='center' label_display='' title_attr='' icon_select='yes' icon='ue85b' fo
 nt='entypo-fontello' color='custom' custom_bg='#b5123e' custom_font='#fffff
 f' av_uid='' id='' custom_class='' admin_preview_bg='']</p>
CATEGORIES:Recht interdisziplinär
LOCATION:Online
GEO:0.000000;0.000000
ORGANIZER;CN="ViFa-Recht":MAILTO:vifa-recht@sbb.spk-berlin.de
URL;VALUE=URI:https://events.intrecht.de/termine/termin/one-empire-many-col
 onies-similar-or-different-histories-39th-annual-conference-of-the-australi
 an-and-new-zealand-law-and-history-society-online-konferenz/
END:VEVENT
BEGIN:VTIMEZONE
TZID:Europe/Berlin
BEGIN:DAYLIGHT
TZOFFSETFROM:+0100
TZOFFSETTO:+0200
DTSTART:20200329T010000
TZNAME:CEST
END:DAYLIGHT
END:VTIMEZONE
END:VCALENDAR
