BEGIN:VCALENDAR
VERSION:2.0
PRODID:-//Events | FID-Recht//NONSGML Events//EN
CALSCALE:GREGORIAN
X-ORIGINAL-URL:https://events.intrecht.de/termine/
X-WR-CALDESC:Events | FID-Recht - Events
BEGIN:VEVENT
UID:20200818T1145Z-1597751137.4924-EO-1322-1@172.16.200.141
STATUS:CONFIRMED
DTSTAMP:20260421T134004Z
CREATED:20200730T184451Z
LAST-MODIFIED:20201110T161626Z
DTSTART;VALUE=DATE:20201209
DTEND;VALUE=DATE:20201210
SUMMARY: One Empire\, Many Colonies\, Similar or Different Histories? – 39t
 h Annual Conference of the Australian and New Zealand Law and History Socie
 ty (Online-Konferenz)
DESCRIPTION: 9.12.2020\, Online 39th Annual Conference of the Australian an
 d New Zealand Law and History Society  
X-ALT-DESC;FMTTYPE=text/html: <p>9.12.2020\, Online</p><p>https://anzlhs.or
 g/2020/11/10/39th-annual-conference-of-the-australian-and-new-zealand-law-a
 nd-history-society/</p><p> </p><p>[av_button label='iCal-Export' link='./fe
 ed/eo-events' link_target='' size='small' position='center' label_display='
 ' title_attr='' icon_select='yes' icon='ue85b' font='entypo-fontello' color
 ='custom' custom_bg='#b5123e' custom_font='#ffffff' av_uid='' id='' custom_
 class='' admin_preview_bg='']</p>
CATEGORIES:Recht interdisziplinär
LOCATION:Online
GEO:0.000000;0.000000
ORGANIZER;CN="ViFa-Recht":MAILTO:vifa-recht@sbb.spk-berlin.de
URL;VALUE=URI:https://events.intrecht.de/termine/termin/one-empire-many-col
 onies-similar-or-different-histories-39th-annual-conference-of-the-australi
 an-and-new-zealand-law-and-history-society-online-konferenz-2/
END:VEVENT
BEGIN:VTIMEZONE
TZID:Europe/Berlin
BEGIN:STANDARD
TZOFFSETFROM:+0200
TZOFFSETTO:+0100
DTSTART:20201025T010000
TZNAME:CET
END:STANDARD
END:VTIMEZONE
END:VCALENDAR
