BEGIN:VCALENDAR
VERSION:2.0
PRODID:-//Events | FID-Recht//NONSGML Events//EN
CALSCALE:GREGORIAN
X-ORIGINAL-URL:https://events.intrecht.de/termine/
X-WR-CALDESC:Events | FID-Recht - Events
BEGIN:VEVENT
UID:20200603T1418Z-1591193923.3362-EO-587-1@172.16.200.141
STATUS:CONFIRMED
DTSTAMP:20260426T050836Z
CREATED:20230330T095612Z
LAST-MODIFIED:20230330T095612Z
DTSTART;VALUE=DATE:20231030
DTEND;VALUE=DATE:20231101
SUMMARY: Österreich und die Moskauer Erklärung vom 30. Oktober 1943 (Intern
 ationales Symposium)
DESCRIPTION: 30.-31.10.2023 / Wien (Frist für Einreichungen: 31.5.2023) htt
 ps://www.hsozkult.de/event/id/event-135250?title=oesterreich-und-die-moskau
 er-erklaerung-vom-30-oktober-1943&recno=15&q=&sort=&fq=&total=851
X-ALT-DESC;FMTTYPE=text/html: <p>30.-31.10.2023 / Wien <strong>(Frist für E
 inreichungen: 31.5.2023)</strong></p><p><a href="https://www.hsozkult.de/ev
 ent/id/event-135250?title=oesterreich-und-die-moskauer-erklaerung-vom-30-ok
 tober-1943&recno=15&q=&sort=&fq=&total=851">https://www.hsozkult.de/event/i
 d/event-135250?title=oesterreich-und-die-moskauer-erklaerung-vom-30-oktober
 -1943&recno=15&q=&sort=&fq=&total=851</a></p><p>[av_button label='iCal-Expo
 rt' link='./feed/eo-events' link_target='' size='small' position='center' l
 abel_display='' title_attr='' icon_select='yes' icon='ue85b' font='entypo-f
 ontello' color='custom' custom_bg='#b5123e' custom_font='#ffffff' av_uid=''
  id='' custom_class='' admin_preview_bg='']</p>
CATEGORIES:Recht interdisziplinär
LOCATION:Ausland
GEO:0.000000;0.000000
ORGANIZER;CN="ViFa-Recht":MAILTO:vifa-recht@sbb.spk-berlin.de
URL;VALUE=URI:https://events.intrecht.de/termine/termin/oesterreich-und-die
 -moskauer-erklaerung-vom-30-oktober-1943-internationales-symposium/
END:VEVENT
BEGIN:VTIMEZONE
TZID:Europe/Berlin
BEGIN:DAYLIGHT
TZOFFSETFROM:+0100
TZOFFSETTO:+0200
DTSTART:20230326T010000
TZNAME:CEST
END:DAYLIGHT
BEGIN:STANDARD
TZOFFSETFROM:+0200
TZOFFSETTO:+0100
DTSTART:20231029T010000
TZNAME:CET
END:STANDARD
END:VTIMEZONE
END:VCALENDAR
