BEGIN:VCALENDAR
VERSION:2.0
PRODID:-//Events | FID-Recht//NONSGML Events//EN
CALSCALE:GREGORIAN
X-ORIGINAL-URL:https://events.intrecht.de/termine/
X-WR-CALDESC:Events | FID-Recht - Events
BEGIN:VEVENT
UID:20230124T0416Z-1674533819.7351-EO-7965-1@172.16.200.151
STATUS:CONFIRMED
DTSTAMP:20260421T151512Z
CREATED:20230106T072013Z
LAST-MODIFIED:20230106T072013Z
DTSTART;VALUE=DATE:20230118
DTEND;VALUE=DATE:20230119
SUMMARY: Öffentliche Dialogveranstaltung im Rahmen der „Difu-Dialoge zur Zu
 kunft der Städte“: Fluchtzuwanderung: Aufnahme und Zusammenleben ermögliche
 n – Was sagt und macht die kommunale Praxis?
DESCRIPTION: 18.1.2023 / Online https://difu.de/veranstaltungen/2023-01-18/
 fluchtzuwanderung-aufnahme-und-zusammenleben-ermoeglichen-was-sagt-und-mach
 t-die-kommunale-praxis  
X-ALT-DESC;FMTTYPE=text/html: <p>18.1.2023 / Online</p><p><a href="https://
 difu.de/veranstaltungen/2023-01-18/fluchtzuwanderung-aufnahme-und-zusammenl
 eben-ermoeglichen-was-sagt-und-macht-die-kommunale-praxis">https://difu.de/
 veranstaltungen/2023-01-18/fluchtzuwanderung-aufnahme-und-zusammenleben-erm
 oeglichen-was-sagt-und-macht-die-kommunale-praxis</a></p><p> </p><p>[av_but
 ton label='iCal-Export' link='./feed/eo-events' link_target='' size='small'
  position='center' label_display='' title_attr='' icon_select='yes' icon='u
 e85b' font='entypo-fontello' color='custom' custom_bg='#b5123e' custom_font
 ='#ffffff' av_uid='' id='' custom_class='' admin_preview_bg='']</p>
CATEGORIES:Öffentliches Recht
LOCATION:Online
GEO:0.000000;0.000000
ORGANIZER;CN="ViFa-Recht":MAILTO:vifa-recht@sbb.spk-berlin.de
URL;VALUE=URI:https://events.intrecht.de/termine/termin/oeffentliche-dialog
 veranstaltung-im-rahmen-der-difu-dialoge-zur-zukunft-der-staedte-fluchtzuwa
 nderung-aufnahme-und-zusammenleben-ermoeglichen-was-sagt-und-macht-die-komm
 u/
END:VEVENT
BEGIN:VTIMEZONE
TZID:Europe/Berlin
BEGIN:STANDARD
TZOFFSETFROM:+0200
TZOFFSETTO:+0100
DTSTART:20221030T010000
TZNAME:CET
END:STANDARD
END:VTIMEZONE
END:VCALENDAR
