BEGIN:VCALENDAR
VERSION:2.0
PRODID:-//Events | FID-Recht//NONSGML Events//EN
CALSCALE:GREGORIAN
X-ORIGINAL-URL:https://events.intrecht.de/termine/
X-WR-CALDESC:Events | FID-Recht - Events
BEGIN:VEVENT
UID:20200603T1418Z-1591193923.3362-EO-587-1@172.16.200.141
STATUS:CONFIRMED
DTSTAMP:20260422T225108Z
CREATED:20250423T125815Z
LAST-MODIFIED:20250423T125815Z
DTSTART;VALUE=DATE:20250919
DTEND;VALUE=DATE:20250920
SUMMARY: Oceanic Echoes: Unveiling the Genocide-Maritime Connection\, Sea b
 y Sea (Hybrid Workshop)
DESCRIPTION: 19.9.2025 / Online und Reading (Einreichungsfrist: 7.5.2025) h
 ttps://drive.google.com/file/d/1OlSqgZjqWh4jyT79XrwwGuzLvMOS2M_H/view
X-ALT-DESC;FMTTYPE=text/html: <p>19.9.2025 / Online und Reading <strong>(Ei
 nreichungsfrist: 7.5.2025)</strong></p><p><a href="https://drive.google.com
 /file/d/1OlSqgZjqWh4jyT79XrwwGuzLvMOS2M_H/view">https://drive.google.com/fi
 le/d/1OlSqgZjqWh4jyT79XrwwGuzLvMOS2M_H/view</a></p><p>[av_button label='iCa
 l-Export' link='./feed/eo-events' link_target='' size='small' position='cen
 ter' label_display='' title_attr='' icon_select='yes' icon='ue85b' font='en
 typo-fontello' color='custom' custom_bg='#b5123e' custom_font='#ffffff' av_
 uid='' id='' custom_class='' admin_preview_bg='']</p>
CATEGORIES:Recht interdisziplinär
LOCATION:Hybrid
GEO:0.000000;0.000000
ORGANIZER;CN="ViFa-Recht":MAILTO:vifa-recht@sbb.spk-berlin.de
URL;VALUE=URI:https://events.intrecht.de/termine/termin/oceanic-echoes-unve
 iling-the-genocide-maritime-connection-sea-by-sea-hybrid-workshop/
END:VEVENT
BEGIN:VTIMEZONE
TZID:Europe/Berlin
BEGIN:DAYLIGHT
TZOFFSETFROM:+0100
TZOFFSETTO:+0200
DTSTART:20250330T010000
TZNAME:CEST
END:DAYLIGHT
END:VTIMEZONE
END:VCALENDAR
