BEGIN:VCALENDAR
VERSION:2.0
PRODID:-//Events | FID-Recht//NONSGML Events//EN
CALSCALE:GREGORIAN
X-ORIGINAL-URL:https://events.intrecht.de/termine/
X-WR-CALDESC:Events | FID-Recht - Events
BEGIN:VEVENT
UID:20200930T2332Z-1601508756.7545-EO-1615-1@172.16.200.141
STATUS:CONFIRMED
DTSTAMP:20260422T160753Z
CREATED:20200925T175427Z
LAST-MODIFIED:20200925T175824Z
DTSTART;VALUE=DATE:20200930
DTEND;VALUE=DATE:20201001
SUMMARY: NS-Raubkunst: Neue interdisziplinäre Perspektiven (Online-Workshop
 )
DESCRIPTION: 30.9.2020\, Online https://arthist.net/archive/23593    
X-ALT-DESC;FMTTYPE=text/html: <p>30.9.2020\, Online</p><p><a href="https://
 arthist.net/archive/23593">https://arthist.net/archive/23593</a></p><p> </p
 ><p> </p><p>[av_button label='iCal-Export' link='./feed/eo-events' link_tar
 get='' size='small' position='center' label_display='' title_attr='' icon_s
 elect='yes' icon='ue85b' font='entypo-fontello' color='custom' custom_bg='#
 b5123e' custom_font='#ffffff' av_uid='' id='' custom_class='' admin_preview
 _bg='']</p>
CATEGORIES:Recht interdisziplinär
LOCATION:Online
GEO:0.000000;0.000000
ORGANIZER;CN="ViFa-Recht":MAILTO:vifa-recht@sbb.spk-berlin.de
URL;VALUE=URI:https://events.intrecht.de/termine/termin/ns-raubkunst-neue-i
 nterdisziplinaere-perspektiven-online-workshop/
END:VEVENT
BEGIN:VTIMEZONE
TZID:Europe/Berlin
BEGIN:DAYLIGHT
TZOFFSETFROM:+0100
TZOFFSETTO:+0200
DTSTART:20200329T010000
TZNAME:CEST
END:DAYLIGHT
END:VTIMEZONE
END:VCALENDAR
