BEGIN:VCALENDAR
VERSION:2.0
PRODID:-//Events | FID-Recht//NONSGML Events//EN
CALSCALE:GREGORIAN
X-ORIGINAL-URL:https://events.intrecht.de/termine/
X-WR-CALDESC:Events | FID-Recht - Events
BEGIN:VEVENT
UID:20200603T1418Z-1591193923.3362-EO-587-1@172.16.200.141
STATUS:CONFIRMED
DTSTAMP:20260423T034344Z
CREATED:20250310T142839Z
LAST-MODIFIED:20250310T142839Z
DTSTART;VALUE=DATE:20250714
DTEND;VALUE=DATE:20250716
SUMMARY: Nottingham International Criminal Justice Conference
DESCRIPTION: 14.-15.7.2025 / Nottingham (Einreichungsfrist: 31.3.2025) http
 s://drive.google.com/file/d/18Pj2eX13v2m67P8gfAsLIAUmRmkM37TU/view
X-ALT-DESC;FMTTYPE=text/html: <p>14.-15.7.2025 / Nottingham <strong>(Einrei
 chungsfrist: 31.3.2025)</strong></p><p><a href="https://drive.google.com/fi
 le/d/18Pj2eX13v2m67P8gfAsLIAUmRmkM37TU/view">https://drive.google.com/file/
 d/18Pj2eX13v2m67P8gfAsLIAUmRmkM37TU/view</a></p><p>[av_button label='iCal-E
 xport' link='./feed/eo-events' link_target='' size='small' position='center
 ' label_display='' title_attr='' icon_select='yes' icon='ue85b' font='entyp
 o-fontello' color='custom' custom_bg='#b5123e' custom_font='#ffffff' av_uid
 ='' id='' custom_class='' admin_preview_bg='']</p>
CATEGORIES:Strafrecht
LOCATION:Ausland
GEO:0.000000;0.000000
ORGANIZER;CN="ViFa-Recht":MAILTO:vifa-recht@sbb.spk-berlin.de
URL;VALUE=URI:https://events.intrecht.de/termine/termin/nottingham-internat
 ional-criminal-justice-conference/
END:VEVENT
BEGIN:VTIMEZONE
TZID:Europe/Berlin
BEGIN:DAYLIGHT
TZOFFSETFROM:+0100
TZOFFSETTO:+0200
DTSTART:20250330T010000
TZNAME:CEST
END:DAYLIGHT
END:VTIMEZONE
END:VCALENDAR
